BEGIN:VCALENDAR
VERSION:2.0
PRODID:-//Taumarunui - ECPv6.15.16//NONSGML v1.0//EN
CALSCALE:GREGORIAN
METHOD:PUBLISH
X-WR-CALNAME:Taumarunui
X-ORIGINAL-URL:https://taumarunui.co.nz
X-WR-CALDESC:Events for Taumarunui
REFRESH-INTERVAL;VALUE=DURATION:PT1H
X-Robots-Tag:noindex
X-PUBLISHED-TTL:PT1H
BEGIN:VTIMEZONE
TZID:Pacific/Auckland
BEGIN:STANDARD
TZOFFSETFROM:+1300
TZOFFSETTO:+1200
TZNAME:NZST
DTSTART:20240406T140000
END:STANDARD
BEGIN:DAYLIGHT
TZOFFSETFROM:+1200
TZOFFSETTO:+1300
TZNAME:NZDT
DTSTART:20240928T140000
END:DAYLIGHT
BEGIN:STANDARD
TZOFFSETFROM:+1300
TZOFFSETTO:+1200
TZNAME:NZST
DTSTART:20250405T140000
END:STANDARD
BEGIN:DAYLIGHT
TZOFFSETFROM:+1200
TZOFFSETTO:+1300
TZNAME:NZDT
DTSTART:20250927T140000
END:DAYLIGHT
BEGIN:STANDARD
TZOFFSETFROM:+1300
TZOFFSETTO:+1200
TZNAME:NZST
DTSTART:20260404T140000
END:STANDARD
BEGIN:DAYLIGHT
TZOFFSETFROM:+1200
TZOFFSETTO:+1300
TZNAME:NZDT
DTSTART:20260926T140000
END:DAYLIGHT
END:VTIMEZONE
BEGIN:VEVENT
DTSTART;VALUE=DATE:20250913
DTEND;VALUE=DATE:20251001
DTSTAMP:20260422T011632
CREATED:20241120T204524Z
LAST-MODIFIED:20250915T181443Z
UID:10009595-1757721600-1759276799@taumarunui.co.nz
SUMMARY:Ruapehu Arts Awards
DESCRIPTION:Exciting progress on the 2025 Ruapehu Art Awards.\nThe Exhibition is now 95% complete a day early and everyone involved is really happy with how it’s shaping up. There is a really big variety of Art to be viewed and some really eye catching works to enjoy. Plus\, it’s a full house with over 250 Artworks on display many from Artists from all over New Zealand. Join us at the opening night and prize giving this Wednesday night 17th September 2025. This event which promises to be a real community celebration. Doors open around 5.30 pm and the prize giving is at 6.15 pm Enjoy a glass of wine\, tasty nibbles and a real feast for your eyes. Location: At the Memorial Hall\, 200 metres south of the Train station in Taumarunui State Highway 4 Hakiaha Street
URL:https://taumarunui.co.nz/event/ruapehu-arts-awards/
LOCATION:Taumarunui Memorial Hall\, Hakiaha Street\, Taumarunui\, New Zealand
CATEGORIES:Event
ATTACH;FMTTYPE=image/jpeg:https://taumarunui.co.nz/wp-content/uploads/2024/11/IMG_1673.jpeg
END:VEVENT
BEGIN:VEVENT
DTSTART;TZID=Pacific/Auckland:20250926T093000
DTEND;TZID=Pacific/Auckland:20250926T123000
DTSTAMP:20260422T011632
CREATED:20241027T232922Z
LAST-MODIFIED:20241027T232922Z
UID:10006025-1758879000-1758889800@taumarunui.co.nz
SUMMARY:Manunui Playcentre
DESCRIPTION:Come along to Manunui Playcentre and check us out. For children aged 0-5.  $2 a session per family
URL:https://taumarunui.co.nz/event/manunui-playcentre-2/2025-09-26/
LOCATION:Manunui Playcentre\, 161 Miro Street\, Manunui\, Taumarunui\, New Zealand
CATEGORIES:Children,Clubs
ATTACH;FMTTYPE=image/png:https://taumarunui.co.nz/wp-content/uploads/2024/10/IMG_8098.png
GEO:-38.8875174;175.3227703
X-APPLE-STRUCTURED-LOCATION;VALUE=URI;X-ADDRESS=Manunui Playcentre 161 Miro Street Manunui Taumarunui New Zealand;X-APPLE-RADIUS=500;X-TITLE=161 Miro Street\, Manunui:geo:175.3227703,-38.8875174
END:VEVENT
BEGIN:VEVENT
DTSTART;TZID=Pacific/Auckland:20250926T100000
DTEND;TZID=Pacific/Auckland:20250926T120000
DTSTAMP:20260422T011632
CREATED:20241015T065559Z
LAST-MODIFIED:20241024T075928Z
UID:10005065-1758880800-1758888000@taumarunui.co.nz
SUMMARY:Creative Fibre Taumarunui
DESCRIPTION:Formerly Taumarunui Spinners & Weavers \nAre you interested in fibre crafts – spinning\, weaving\, knitting\, crocheting etc or learning one of these crafts? WE meet at the Ruapehu Community Arts Centre\, Taumarunui on the second and fourth Friday of each month
URL:https://taumarunui.co.nz/event/creative-fibre-taumarunui/2025-09-26/
LOCATION:Taumarunui Arts Centre\, Hakiaha Street\, Taumarunui\, New Zealand
CATEGORIES:Clubs
ATTACH;FMTTYPE=image/jpeg:https://taumarunui.co.nz/wp-content/uploads/2024/10/IMG_8155-1-scaled.jpeg
END:VEVENT
BEGIN:VEVENT
DTSTART;TZID=Pacific/Auckland:20250926T103000
DTEND;TZID=Pacific/Auckland:20250926T143000
DTSTAMP:20260422T011632
CREATED:20241108T003031Z
LAST-MODIFIED:20241108T003031Z
UID:10008789-1758882600-1758897000@taumarunui.co.nz
SUMMARY:Taumarunui Mixed Make Time Play 9
DESCRIPTION:
URL:https://taumarunui.co.nz/event/taumarunui-mixed-make-time-play-9/2025-09-26/
LOCATION:Taumarunui Golf Club\, 165 Golf Road\, Taumarunui\, New Zealand
CATEGORIES:Clubs,Sport
ATTACH;FMTTYPE=image/jpeg:https://taumarunui.co.nz/wp-content/uploads/2024/11/IMG_8283.jpeg
END:VEVENT
BEGIN:VEVENT
DTSTART;TZID=Pacific/Auckland:20250926T130000
DTEND;TZID=Pacific/Auckland:20250926T150000
DTSTAMP:20260422T011632
CREATED:20240922T232709Z
LAST-MODIFIED:20241015T054028Z
UID:10001582-1758891600-1758898800@taumarunui.co.nz
SUMMARY:Grey Power Ruapehu
DESCRIPTION:Social connection events for everyone aged 50 years plus. \nLast Friday every month in upstairs room at RSA \nContact Alan on 027 814 2279 or Chanelle on 027 264 3135
URL:https://taumarunui.co.nz/event/grey-power-ruapehu/2025-09-26/
LOCATION:RSA\, 10 Marae Street\, Taumarunui\, New Zealand
CATEGORIES:Clubs
ATTACH;FMTTYPE=image/jpeg:https://taumarunui.co.nz/wp-content/uploads/2024/09/IMG_8082.jpg
GEO:-38.8851355;175.2614527
X-APPLE-STRUCTURED-LOCATION;VALUE=URI;X-ADDRESS=RSA 10 Marae Street Taumarunui New Zealand;X-APPLE-RADIUS=500;X-TITLE=10 Marae Street:geo:175.2614527,-38.8851355
END:VEVENT
BEGIN:VEVENT
DTSTART;TZID=Pacific/Auckland:20250926T130000
DTEND;TZID=Pacific/Auckland:20250926T150000
DTSTAMP:20260422T011632
CREATED:20241105T044854Z
LAST-MODIFIED:20241105T050015Z
UID:10008279-1758891600-1758898800@taumarunui.co.nz
SUMMARY:Taumarunui & District Women’s Club Circles - Bridge
DESCRIPTION:Visitors & new members welcome
URL:https://taumarunui.co.nz/event/taumarunui-district-womens-club-circles-bridge/2025-09-26/
LOCATION:Taumarunui Women’s Refuge & Support Centre\, 57 Miriama Street\, Taumarunui\, New Zealand
CATEGORIES:Clubs
END:VEVENT
BEGIN:VEVENT
DTSTART;TZID=Pacific/Auckland:20250926T130000
DTEND;TZID=Pacific/Auckland:20250926T150000
DTSTAMP:20260422T011632
CREATED:20250122T180717Z
LAST-MODIFIED:20250122T180717Z
UID:10010726-1758891600-1758898800@taumarunui.co.nz
SUMMARY:Cheerful Seniors Taumarunui
DESCRIPTION:Hi everyone\, we are offering a new social connection group for seniors (anyone aged 50 years plus – or thereabouts). Join our page for the up to date news and events. last Friday of every month – Senior Citizens Hall\, Taumarunui. Gold coin donation from 1pm – 3pm
URL:https://taumarunui.co.nz/event/cheerful-seniors-taumarunui/2025-09-26/
LOCATION:Senior Citizens Hall\, Morero Street\, Taumarunui\, New Zealand
CATEGORIES:Clubs,Wellness
ATTACH;FMTTYPE=image/jpeg:https://taumarunui.co.nz/wp-content/uploads/2025/01/IMG_0476.jpeg
END:VEVENT
BEGIN:VEVENT
DTSTART;TZID=Pacific/Auckland:20250926T160000
DTEND;TZID=Pacific/Auckland:20250926T180000
DTSTAMP:20260422T011632
CREATED:20241112T230456Z
LAST-MODIFIED:20241112T230456Z
UID:10009313-1758902400-1758909600@taumarunui.co.nz
SUMMARY:Pickleball
DESCRIPTION:Exciting!!!!\nLook at what is starting in Taumarunui – “PICKLEBALL”.\nWe welcome Pete and Terry to Taumarunui\, and they bring their love for the game of Pickleball.\nThe Taumarunui Youth and Community Trust has supported them in getting this up and running in the community.\nAnyone interested can come to the athletic gym on Fridays from 4pm to 6pm.
URL:https://taumarunui.co.nz/event/pickleball/2025-09-26/
LOCATION:Athletics Club\, Turaki Street\, Taumarunui\, New Zealand
CATEGORIES:Clubs,Sport
ATTACH;FMTTYPE=image/jpeg:https://taumarunui.co.nz/wp-content/uploads/2024/11/IMG_8308.jpeg
END:VEVENT
BEGIN:VEVENT
DTSTART;TZID=Pacific/Auckland:20250926T183000
DTEND;TZID=Pacific/Auckland:20250926T220000
DTSTAMP:20260422T011632
CREATED:20250922T060027Z
LAST-MODIFIED:20250922T060027Z
UID:10012439-1758911400-1758924000@taumarunui.co.nz
SUMMARY:Blue September 2025 Pool Tournament
DESCRIPTION:Shoot Pool. Save Lives. Blue September 2025\nBack your community and support men’s health. Taumarunui Community Kokiri Trust is hosting OUR annual Blue September 2025 8-Ball Pool Tournament at the Taumarunui RSA.\nJoin us for a night of competition and connection while raising vital pūtea for the Prostate Cancer Foundation. Come dressed to impress\, play hard\, and be in to win great prizes – including Best Dressed on the night.\nBlue September aka Prostate Cancer NZ\nShoot Pool. Save Lives. Blue September 2025\nIf you would like to make an online donation\, click on the link bellow.\nhttps://www.blueseptember.org.nz/so/740/8
URL:https://taumarunui.co.nz/event/blue-september-2025-pool-tournament/
LOCATION:Taumarunui RSA
CATEGORIES:Event
ATTACH;FMTTYPE=image/jpeg:https://taumarunui.co.nz/wp-content/uploads/2025/09/IMG_1711.jpeg
END:VEVENT
END:VCALENDAR