BEGIN:VCALENDAR
VERSION:2.0
PRODID:-//Taumarunui - ECPv6.15.16//NONSGML v1.0//EN
CALSCALE:GREGORIAN
METHOD:PUBLISH
X-WR-CALNAME:Taumarunui
X-ORIGINAL-URL:https://taumarunui.co.nz
X-WR-CALDESC:Events for Taumarunui
REFRESH-INTERVAL;VALUE=DURATION:PT1H
X-Robots-Tag:noindex
X-PUBLISHED-TTL:PT1H
BEGIN:VTIMEZONE
TZID:Pacific/Auckland
BEGIN:STANDARD
TZOFFSETFROM:+1300
TZOFFSETTO:+1200
TZNAME:NZST
DTSTART:20240406T140000
END:STANDARD
BEGIN:DAYLIGHT
TZOFFSETFROM:+1200
TZOFFSETTO:+1300
TZNAME:NZDT
DTSTART:20240928T140000
END:DAYLIGHT
BEGIN:STANDARD
TZOFFSETFROM:+1300
TZOFFSETTO:+1200
TZNAME:NZST
DTSTART:20250405T140000
END:STANDARD
BEGIN:DAYLIGHT
TZOFFSETFROM:+1200
TZOFFSETTO:+1300
TZNAME:NZDT
DTSTART:20250927T140000
END:DAYLIGHT
BEGIN:STANDARD
TZOFFSETFROM:+1300
TZOFFSETTO:+1200
TZNAME:NZST
DTSTART:20260404T140000
END:STANDARD
BEGIN:DAYLIGHT
TZOFFSETFROM:+1200
TZOFFSETTO:+1300
TZNAME:NZDT
DTSTART:20260926T140000
END:DAYLIGHT
END:VTIMEZONE
BEGIN:VEVENT
DTSTART;VALUE=DATE:20250913
DTEND;VALUE=DATE:20251001
DTSTAMP:20260421T025914
CREATED:20241120T204524Z
LAST-MODIFIED:20250915T181443Z
UID:10009595-1757721600-1759276799@taumarunui.co.nz
SUMMARY:Ruapehu Arts Awards
DESCRIPTION:Exciting progress on the 2025 Ruapehu Art Awards.\nThe Exhibition is now 95% complete a day early and everyone involved is really happy with how it’s shaping up. There is a really big variety of Art to be viewed and some really eye catching works to enjoy. Plus\, it’s a full house with over 250 Artworks on display many from Artists from all over New Zealand. Join us at the opening night and prize giving this Wednesday night 17th September 2025. This event which promises to be a real community celebration. Doors open around 5.30 pm and the prize giving is at 6.15 pm Enjoy a glass of wine\, tasty nibbles and a real feast for your eyes. Location: At the Memorial Hall\, 200 metres south of the Train station in Taumarunui State Highway 4 Hakiaha Street
URL:https://taumarunui.co.nz/event/ruapehu-arts-awards/
LOCATION:Taumarunui Memorial Hall\, Hakiaha Street\, Taumarunui\, New Zealand
CATEGORIES:Event
ATTACH;FMTTYPE=image/jpeg:https://taumarunui.co.nz/wp-content/uploads/2024/11/IMG_1673.jpeg
END:VEVENT
BEGIN:VEVENT
DTSTART;TZID=Pacific/Auckland:20250916T073000
DTEND;TZID=Pacific/Auckland:20250916T083000
DTSTAMP:20260421T025914
CREATED:20241015T071007Z
LAST-MODIFIED:20241015T071007Z
UID:10005742-1758007800-1758011400@taumarunui.co.nz
SUMMARY:Water Aerobics
DESCRIPTION:Meet every Tuesday and Thursday at the Trust Waikato pool at Taumarunui High School. \nEntry fee is only $3\, so come along and have some fun and gentle exercise
URL:https://taumarunui.co.nz/event/water-aerobics-2/2025-09-16/
LOCATION:Trust Waikato Pool Taumarunui\, Golf Road\, Taumarunui\, New Zealand
CATEGORIES:Clubs,Sport
END:VEVENT
BEGIN:VEVENT
DTSTART;TZID=Pacific/Auckland:20250916T093000
DTEND;TZID=Pacific/Auckland:20250916T123000
DTSTAMP:20260421T025914
CREATED:20240919T204601Z
LAST-MODIFIED:20241015T073914Z
UID:10000058-1758015000-1758025800@taumarunui.co.nz
SUMMARY:Manunui Playcentre
DESCRIPTION:Come along to Manunui Playcentre and check us out. For children aged 0-5. $2 a session per family \n 
URL:https://taumarunui.co.nz/event/manunui-playcentre/2025-09-16/
LOCATION:Manunui Playcentre\, 161 Miro Street\, Manunui\, Taumarunui\, New Zealand
CATEGORIES:Clubs
ATTACH;FMTTYPE=image/png:https://taumarunui.co.nz/wp-content/uploads/2024/10/IMG_8098.png
GEO:-38.8875174;175.3227703
X-APPLE-STRUCTURED-LOCATION;VALUE=URI;X-ADDRESS=Manunui Playcentre 161 Miro Street Manunui Taumarunui New Zealand;X-APPLE-RADIUS=500;X-TITLE=161 Miro Street\, Manunui:geo:175.3227703,-38.8875174
END:VEVENT
BEGIN:VEVENT
DTSTART;TZID=Pacific/Auckland:20250916T110000
DTEND;TZID=Pacific/Auckland:20250916T130000
DTSTAMP:20260421T025914
CREATED:20241015T051303Z
LAST-MODIFIED:20241015T051303Z
UID:10003222-1758020400-1758027600@taumarunui.co.nz
SUMMARY:Heartland Services Outreach October 2024
DESCRIPTION:
URL:https://taumarunui.co.nz/event/heartland-services-outreach-october-2024/2025-09-16/
CATEGORIES:Event
ATTACH;FMTTYPE=image/jpeg:https://taumarunui.co.nz/wp-content/uploads/2024/09/IMG_0361.jpg
END:VEVENT
BEGIN:VEVENT
DTSTART;TZID=Pacific/Auckland:20250916T130000
DTEND;TZID=Pacific/Auckland:20250916T150000
DTSTAMP:20260421T025914
CREATED:20241105T044008Z
LAST-MODIFIED:20241105T044008Z
UID:10007516-1758027600-1758034800@taumarunui.co.nz
SUMMARY:Taumarunui & District Women’s Club Circles - Rummi Kub
DESCRIPTION:Every Tuesday
URL:https://taumarunui.co.nz/event/taumarunui-district-womens-club-circles-rummi-kub/2025-09-16/
LOCATION:Taumarunui Women’s Refuge & Support Centre\, 57 Miriama Street\, Taumarunui\, New Zealand
CATEGORIES:Clubs
END:VEVENT
BEGIN:VEVENT
DTSTART;TZID=Pacific/Auckland:20250916T153000
DTEND;TZID=Pacific/Auckland:20250916T163000
DTSTAMP:20260421T025914
CREATED:20250204T002604Z
LAST-MODIFIED:20250204T002604Z
UID:10011122-1758036600-1758040200@taumarunui.co.nz
SUMMARY:Kids Jiu-Jitsu
DESCRIPTION:🤼 Kids Jiu-Jitsu 🤼 \nOur Kids Jiu-Jitsu Classes for ages 7+ start February 4th\, and spaces are limited! \n✅ Build Strength & Flexibility\n✅ Learn Self-Defense\n✅ Boost Confidence & Discipline\n✅ Have Fun and Make New Friends! \n📅 Classes begin February 4th – don’t wait\, spots are filling up fast! \n📲 Contact us to reserve your child’s place today!
URL:https://taumarunui.co.nz/event/kids-jiu-jitsu/2025-09-16/
CATEGORIES:Children,Classes
ATTACH;FMTTYPE=image/jpeg:https://taumarunui.co.nz/wp-content/uploads/2025/02/IMG_9329.jpeg
END:VEVENT
BEGIN:VEVENT
DTSTART;TZID=Pacific/Auckland:20250916T173000
DTEND;TZID=Pacific/Auckland:20250916T190000
DTSTAMP:20260421T025914
CREATED:20241015T062549Z
LAST-MODIFIED:20241015T062549Z
UID:10003878-1758043800-1758049200@taumarunui.co.nz
SUMMARY:Progressive Hatha Yoga for all
DESCRIPTION:On every Tuesday of school terms in Senior Citizen Hall\, Taumarunui. \nFirst class $10\, equipment available.
URL:https://taumarunui.co.nz/event/progressive-hatha-yoga-for-all/2025-09-16/
LOCATION:Senior Citizens Hall\, Morero Street\, Taumarunui\, New Zealand
CATEGORIES:Clubs,Sport
END:VEVENT
BEGIN:VEVENT
DTSTART;TZID=Pacific/Auckland:20250916T190000
DTEND;TZID=Pacific/Auckland:20250916T210000
DTSTAMP:20260421T025914
CREATED:20250206T234635Z
LAST-MODIFIED:20250206T234635Z
UID:10011614-1758049200-1758056400@taumarunui.co.nz
SUMMARY:Bridge
DESCRIPTION:Learn to play bridge \n10 weekly lessons led by Jonathan Lane \nStarts Tuesday 11 February \n7.15pm at the Womans Club\, Miriama St
URL:https://taumarunui.co.nz/event/bridge/2025-09-16/
CATEGORIES:Clubs
ATTACH;FMTTYPE=image/jpeg:https://taumarunui.co.nz/wp-content/uploads/2025/02/IMG_9359.jpeg
END:VEVENT
BEGIN:VEVENT
DTSTART;TZID=Pacific/Auckland:20250916T193000
DTEND;TZID=Pacific/Auckland:20250916T193000
DTSTAMP:20260421T025914
CREATED:20240922T231106Z
LAST-MODIFIED:20240922T231106Z
UID:10001033-1758051000-1758051000@taumarunui.co.nz
SUMMARY:Alcoholics Anonymous
DESCRIPTION:Meeting every Tuesday at the old Bowling Club\, Manunui
URL:https://taumarunui.co.nz/event/alcoholics-anonymous/2025-09-16/
LOCATION:Old Bowling Club\, Valley Road\, Manunui\, 3924\, New Zealand
CATEGORIES:Clubs
GEO:-38.8926094;175.3279306
X-APPLE-STRUCTURED-LOCATION;VALUE=URI;X-ADDRESS=Old Bowling Club Valley Road Manunui 3924 New Zealand;X-APPLE-RADIUS=500;X-TITLE=Valley Road:geo:175.3279306,-38.8926094
END:VEVENT
END:VCALENDAR