BEGIN:VCALENDAR
VERSION:2.0
PRODID:-//Taumarunui - ECPv6.15.16//NONSGML v1.0//EN
CALSCALE:GREGORIAN
METHOD:PUBLISH
X-ORIGINAL-URL:https://taumarunui.co.nz
X-WR-CALDESC:Events for Taumarunui
REFRESH-INTERVAL;VALUE=DURATION:PT1H
X-Robots-Tag:noindex
X-PUBLISHED-TTL:PT1H
BEGIN:VTIMEZONE
TZID:Pacific/Auckland
BEGIN:STANDARD
TZOFFSETFROM:+1300
TZOFFSETTO:+1200
TZNAME:NZST
DTSTART:20240406T140000
END:STANDARD
BEGIN:DAYLIGHT
TZOFFSETFROM:+1200
TZOFFSETTO:+1300
TZNAME:NZDT
DTSTART:20240928T140000
END:DAYLIGHT
BEGIN:STANDARD
TZOFFSETFROM:+1300
TZOFFSETTO:+1200
TZNAME:NZST
DTSTART:20250405T140000
END:STANDARD
BEGIN:DAYLIGHT
TZOFFSETFROM:+1200
TZOFFSETTO:+1300
TZNAME:NZDT
DTSTART:20250927T140000
END:DAYLIGHT
BEGIN:STANDARD
TZOFFSETFROM:+1300
TZOFFSETTO:+1200
TZNAME:NZST
DTSTART:20260404T140000
END:STANDARD
BEGIN:DAYLIGHT
TZOFFSETFROM:+1200
TZOFFSETTO:+1300
TZNAME:NZDT
DTSTART:20260926T140000
END:DAYLIGHT
END:VTIMEZONE
BEGIN:VEVENT
DTSTART;VALUE=DATE:20250701
DTEND;VALUE=DATE:20250801
DTSTAMP:20260422T213806
CREATED:20250703T224239Z
LAST-MODIFIED:20250703T224239Z
UID:10012288-1751328000-1754006399@taumarunui.co.nz
SUMMARY:SUPPORT LOCAL SHOP LOCAL
DESCRIPTION:SUPPORT LOCAL SHOP LOCAL DURING THE MONTH OF JULY\nThis is great way to support our local retailers. Please participate and show that you care about Taumarunui \nJUST SPEND $25 OR MORE AT ONE OF THE PARTICIPATING RETAILERS BELOW\, PUT YOUR NAME AND PHONE NUMBER ON THE CARD PROVIDED AND PUT INTO THE SPECIALLY MARKED BOX.\n😊😊BE IN THE CHANCE TO WIN ONE OF FIVE FANTASTIC PRIZE PACKAGES 😊😊 \nParticipating retailers:\nPDC Barn\nFarmlands\n100% Appliances\nCountry Carpet & Furniture\nAbsolute Meats\nUnichem\nToolshed\nArcadian Antiques\nGorjis\nPaper Plus\nTMP Fashion\,\nMy Sister’s Wardrobe\nThe Little Second Hand Shop\nTotally Vets\nWheels & Tyres\nFarmfirst Vets\nPostie\nOleezara\nCentral Mowers
URL:https://taumarunui.co.nz/event/support-local-shop-local/
ATTACH;FMTTYPE=image/jpeg:https://taumarunui.co.nz/wp-content/uploads/2025/07/IMG_0756.jpeg
END:VEVENT
BEGIN:VEVENT
DTSTART;TZID=Pacific/Auckland:20250719T100000
DTEND;TZID=Pacific/Auckland:20250719T110000
DTSTAMP:20260422T213806
CREATED:20241015T061524Z
LAST-MODIFIED:20241024T053057Z
UID:10003549-1752919200-1752922800@taumarunui.co.nz
SUMMARY:Ruapehu Toy Library
DESCRIPTION:We are open on Thursday and Saturday. Situated in the Taumarunui Arts Centre \nWe welcome any new members
URL:https://taumarunui.co.nz/event/ruapehu-toy-library-2/2025-07-19/
CATEGORIES:Children
ATTACH;FMTTYPE=image/jpeg:https://taumarunui.co.nz/wp-content/uploads/2024/10/IMG_8156-scaled.jpeg
END:VEVENT
BEGIN:VEVENT
DTSTART;TZID=Pacific/Auckland:20250719T100000
DTEND;TZID=Pacific/Auckland:20250719T150000
DTSTAMP:20260422T213806
CREATED:20241015T050012Z
LAST-MODIFIED:20241015T050012Z
UID:10003110-1752919200-1752937200@taumarunui.co.nz
SUMMARY:Foundational Wananga
DESCRIPTION:Traditional Maori Healing classes
URL:https://taumarunui.co.nz/event/foundational-wananga/2025-07-19/
LOCATION:Taumarunui\, Taumarunui\, New Zealand
CATEGORIES:Classes
ATTACH;FMTTYPE=image/jpeg:https://taumarunui.co.nz/wp-content/uploads/2024/09/IMG_8010.jpg
GEO:-38.8832802;175.2563657
END:VEVENT
END:VCALENDAR