BEGIN:VCALENDAR
VERSION:2.0
PRODID:-//Taumarunui - ECPv6.15.16//NONSGML v1.0//EN
CALSCALE:GREGORIAN
METHOD:PUBLISH
X-WR-CALNAME:Taumarunui
X-ORIGINAL-URL:https://taumarunui.co.nz
X-WR-CALDESC:Events for Taumarunui
REFRESH-INTERVAL;VALUE=DURATION:PT1H
X-Robots-Tag:noindex
X-PUBLISHED-TTL:PT1H
BEGIN:VTIMEZONE
TZID:Pacific/Auckland
BEGIN:STANDARD
TZOFFSETFROM:+1300
TZOFFSETTO:+1200
TZNAME:NZST
DTSTART:20240406T140000
END:STANDARD
BEGIN:DAYLIGHT
TZOFFSETFROM:+1200
TZOFFSETTO:+1300
TZNAME:NZDT
DTSTART:20240928T140000
END:DAYLIGHT
BEGIN:STANDARD
TZOFFSETFROM:+1300
TZOFFSETTO:+1200
TZNAME:NZST
DTSTART:20250405T140000
END:STANDARD
BEGIN:DAYLIGHT
TZOFFSETFROM:+1200
TZOFFSETTO:+1300
TZNAME:NZDT
DTSTART:20250927T140000
END:DAYLIGHT
BEGIN:STANDARD
TZOFFSETFROM:+1300
TZOFFSETTO:+1200
TZNAME:NZST
DTSTART:20260404T140000
END:STANDARD
BEGIN:DAYLIGHT
TZOFFSETFROM:+1200
TZOFFSETTO:+1300
TZNAME:NZDT
DTSTART:20260926T140000
END:DAYLIGHT
END:VTIMEZONE
BEGIN:VEVENT
DTSTART;VALUE=DATE:20250701
DTEND;VALUE=DATE:20250801
DTSTAMP:20260420T113124
CREATED:20250703T224239Z
LAST-MODIFIED:20250703T224239Z
UID:10012288-1751328000-1754006399@taumarunui.co.nz
SUMMARY:SUPPORT LOCAL SHOP LOCAL
DESCRIPTION:SUPPORT LOCAL SHOP LOCAL DURING THE MONTH OF JULY\nThis is great way to support our local retailers. Please participate and show that you care about Taumarunui \nJUST SPEND $25 OR MORE AT ONE OF THE PARTICIPATING RETAILERS BELOW\, PUT YOUR NAME AND PHONE NUMBER ON THE CARD PROVIDED AND PUT INTO THE SPECIALLY MARKED BOX.\n😊😊BE IN THE CHANCE TO WIN ONE OF FIVE FANTASTIC PRIZE PACKAGES 😊😊 \nParticipating retailers:\nPDC Barn\nFarmlands\n100% Appliances\nCountry Carpet & Furniture\nAbsolute Meats\nUnichem\nToolshed\nArcadian Antiques\nGorjis\nPaper Plus\nTMP Fashion\,\nMy Sister’s Wardrobe\nThe Little Second Hand Shop\nTotally Vets\nWheels & Tyres\nFarmfirst Vets\nPostie\nOleezara\nCentral Mowers
URL:https://taumarunui.co.nz/event/support-local-shop-local/
ATTACH;FMTTYPE=image/jpeg:https://taumarunui.co.nz/wp-content/uploads/2025/07/IMG_0756.jpeg
END:VEVENT
BEGIN:VEVENT
DTSTART;TZID=Pacific/Auckland:20250709T100000
DTEND;TZID=Pacific/Auckland:20250709T140000
DTSTAMP:20260420T113124
CREATED:20240922T234817Z
LAST-MODIFIED:20241015T055838Z
UID:10001936-1752055200-1752069600@taumarunui.co.nz
SUMMARY:Taumarunui Whakaarotahi Trust Market (Manunui)
DESCRIPTION:Every Wednesday 10am-4pm and last Saturday of every month 10am-1pm
URL:https://taumarunui.co.nz/event/taumarunui-whakaarotahi-trust-market-manunui/2025-07-09/
CATEGORIES:Markets
ATTACH;FMTTYPE=image/jpeg:https://taumarunui.co.nz/wp-content/uploads/2024/09/IMG_8084-1.jpg
END:VEVENT
BEGIN:VEVENT
DTSTART;TZID=Pacific/Auckland:20250709T110000
DTEND;TZID=Pacific/Auckland:20250709T130000
DTSTAMP:20260420T113124
CREATED:20241015T051303Z
LAST-MODIFIED:20241015T051303Z
UID:10003203-1752058800-1752066000@taumarunui.co.nz
SUMMARY:Heartland Services Outreach October 2024
DESCRIPTION:
URL:https://taumarunui.co.nz/event/heartland-services-outreach-october-2024/2025-07-09/
CATEGORIES:Event
ATTACH;FMTTYPE=image/jpeg:https://taumarunui.co.nz/wp-content/uploads/2024/09/IMG_0361.jpg
END:VEVENT
BEGIN:VEVENT
DTSTART;TZID=Pacific/Auckland:20250709T130000
DTEND;TZID=Pacific/Auckland:20250709T150000
DTSTAMP:20260420T113124
CREATED:20241105T044509Z
LAST-MODIFIED:20241105T045810Z
UID:10007887-1752066000-1752073200@taumarunui.co.nz
SUMMARY:Taumarunui & District Women’s Club Circles - Mah Jong
DESCRIPTION:Visitors & new members welcome
URL:https://taumarunui.co.nz/event/taumarunui-district-womens-club-circles-mah-jong/2025-07-09/
LOCATION:Taumarunui Women’s Refuge & Support Centre\, 57 Miriama Street\, Taumarunui\, New Zealand
CATEGORIES:Clubs
END:VEVENT
BEGIN:VEVENT
DTSTART;TZID=Pacific/Auckland:20250709T160000
DTEND;TZID=Pacific/Auckland:20250709T170000
DTSTAMP:20260420T113124
CREATED:20250216T165727Z
LAST-MODIFIED:20250216T170030Z
UID:10011930-1752076800-1752080400@taumarunui.co.nz
SUMMARY:Join the Choir
DESCRIPTION:If your children love to sing\, bring them along.
URL:https://taumarunui.co.nz/event/join-the-choir/2025-07-09/
LOCATION:The Little Theatre
CATEGORIES:Children,Clubs
ATTACH;FMTTYPE=image/jpeg:https://taumarunui.co.nz/wp-content/uploads/2025/02/IMG_0494.jpeg
END:VEVENT
BEGIN:VEVENT
DTSTART;TZID=Pacific/Auckland:20250709T163000
DTEND;TZID=Pacific/Auckland:20250709T191500
DTSTAMP:20260420T113124
CREATED:20241015T064759Z
LAST-MODIFIED:20241015T073742Z
UID:10004450-1752078600-1752088500@taumarunui.co.nz
SUMMARY:Kyokushin Karate
DESCRIPTION:Traditional training every Monday & Wednesday. \nExtra fitness fight class on Friday \n7-12 year olds 4.30 – 5.30pm \nTeens & Adults 5.45pm – 7.15pm
URL:https://taumarunui.co.nz/event/kyokushin-karate-2/2025-07-09/
LOCATION:Kyokushin Karate\, 4 Marae Street\, Taumarunui\, New Zealand
CATEGORIES:Clubs,Sport
ATTACH;FMTTYPE=image/jpeg:https://taumarunui.co.nz/wp-content/uploads/2024/10/IMG_8094.jpg
END:VEVENT
BEGIN:VEVENT
DTSTART;TZID=Pacific/Auckland:20250709T173000
DTEND;TZID=Pacific/Auckland:20250709T183000
DTSTAMP:20260420T113124
CREATED:20241112T224554Z
LAST-MODIFIED:20241112T224554Z
UID:10009041-1752082200-1752085800@taumarunui.co.nz
SUMMARY:Free Dog training group class
DESCRIPTION:🐕Free Dog Training Group Class 🐕\n5:30pm Wednesdays\, Cherry Grove\nCome along to learn some new skills and have fun with your dog\nAll dogs must be on lead\, pm me with any questions – Emma King
URL:https://taumarunui.co.nz/event/free-dog-training-group-class/2025-07-09/
END:VEVENT
BEGIN:VEVENT
DTSTART;TZID=Pacific/Auckland:20250709T190000
DTEND;TZID=Pacific/Auckland:20250709T210000
DTSTAMP:20260420T113124
CREATED:20250212T034742Z
LAST-MODIFIED:20250216T170453Z
UID:10011670-1752087600-1752094800@taumarunui.co.nz
SUMMARY:Taumarunui Community Choir
DESCRIPTION:Taumarunui Community Choir\n7pm Wednesday’s.\nCome have fun singing with others @ The Little Theatre \nThis term we are preparing a selection of Show tunes. New members are welcome. You don’t need to have any experience or be able to read music. Come have fun singing with others.
URL:https://taumarunui.co.nz/event/taumarunui-community-choir/2025-07-09/
LOCATION:The Little Theatre
CATEGORIES:Clubs
ATTACH;FMTTYPE=image/jpeg:https://taumarunui.co.nz/wp-content/uploads/2025/02/IMG_0495.jpeg
END:VEVENT
END:VCALENDAR