BEGIN:VCALENDAR
VERSION:2.0
PRODID:-//Taumarunui - ECPv6.15.20//NONSGML v1.0//EN
CALSCALE:GREGORIAN
METHOD:PUBLISH
X-WR-CALNAME:Taumarunui
X-ORIGINAL-URL:https://taumarunui.co.nz
X-WR-CALDESC:Events for Taumarunui
REFRESH-INTERVAL;VALUE=DURATION:PT1H
X-Robots-Tag:noindex
X-PUBLISHED-TTL:PT1H
BEGIN:VTIMEZONE
TZID:Pacific/Auckland
BEGIN:STANDARD
TZOFFSETFROM:+1300
TZOFFSETTO:+1200
TZNAME:NZST
DTSTART:20240406T140000
END:STANDARD
BEGIN:DAYLIGHT
TZOFFSETFROM:+1200
TZOFFSETTO:+1300
TZNAME:NZDT
DTSTART:20240928T140000
END:DAYLIGHT
BEGIN:STANDARD
TZOFFSETFROM:+1300
TZOFFSETTO:+1200
TZNAME:NZST
DTSTART:20250405T140000
END:STANDARD
BEGIN:DAYLIGHT
TZOFFSETFROM:+1200
TZOFFSETTO:+1300
TZNAME:NZDT
DTSTART:20250927T140000
END:DAYLIGHT
BEGIN:STANDARD
TZOFFSETFROM:+1300
TZOFFSETTO:+1200
TZNAME:NZST
DTSTART:20260404T140000
END:STANDARD
BEGIN:DAYLIGHT
TZOFFSETFROM:+1200
TZOFFSETTO:+1300
TZNAME:NZDT
DTSTART:20260926T140000
END:DAYLIGHT
END:VTIMEZONE
BEGIN:VEVENT
DTSTART;TZID=Pacific/Auckland:20250530T100000
DTEND;TZID=Pacific/Auckland:20250608T160000
DTSTAMP:20260425T042049
CREATED:20250520T014512Z
LAST-MODIFIED:20250520T021216Z
UID:10012276-1748599200-1749398400@taumarunui.co.nz
SUMMARY:Fossicked & Found Art Exhibition
DESCRIPTION:Raewyn and James will be back at the Arts Centre from May 30 – June 8 with more Fossicked and Found Artworks.\nBe sure to come in and see the amazing art created by these two local artists.
URL:https://taumarunui.co.nz/event/fossicked-found-art-exhibition/
LOCATION:Taumarunui Arts Centre\, Hakiaha Street\, Taumarunui\, New Zealand
ATTACH;FMTTYPE=image/jpeg:https://taumarunui.co.nz/wp-content/uploads/2025/05/IMG_0363.jpeg
END:VEVENT
BEGIN:VEVENT
DTSTART;TZID=Pacific/Auckland:20250604T100000
DTEND;TZID=Pacific/Auckland:20250604T140000
DTSTAMP:20260425T042049
CREATED:20240922T234817Z
LAST-MODIFIED:20241015T055838Z
UID:10001931-1749031200-1749045600@taumarunui.co.nz
SUMMARY:Taumarunui Whakaarotahi Trust Market (Manunui)
DESCRIPTION:Every Wednesday 10am-4pm and last Saturday of every month 10am-1pm
URL:https://taumarunui.co.nz/event/taumarunui-whakaarotahi-trust-market-manunui/2025-06-04/
CATEGORIES:Markets
ATTACH;FMTTYPE=image/jpeg:https://taumarunui.co.nz/wp-content/uploads/2024/09/IMG_8084-1.jpg
END:VEVENT
BEGIN:VEVENT
DTSTART;TZID=Pacific/Auckland:20250604T110000
DTEND;TZID=Pacific/Auckland:20250604T130000
DTSTAMP:20260425T042049
CREATED:20241015T051303Z
LAST-MODIFIED:20241015T051303Z
UID:10003193-1749034800-1749042000@taumarunui.co.nz
SUMMARY:Heartland Services Outreach October 2024
DESCRIPTION:
URL:https://taumarunui.co.nz/event/heartland-services-outreach-october-2024/2025-06-04/
CATEGORIES:Event
ATTACH;FMTTYPE=image/jpeg:https://taumarunui.co.nz/wp-content/uploads/2024/09/IMG_0361.jpg
END:VEVENT
BEGIN:VEVENT
DTSTART;TZID=Pacific/Auckland:20250604T130000
DTEND;TZID=Pacific/Auckland:20250604T150000
DTSTAMP:20260425T042049
CREATED:20241105T044509Z
LAST-MODIFIED:20241105T045810Z
UID:10007882-1749042000-1749049200@taumarunui.co.nz
SUMMARY:Taumarunui & District Women’s Club Circles - Mah Jong
DESCRIPTION:Visitors & new members welcome
URL:https://taumarunui.co.nz/event/taumarunui-district-womens-club-circles-mah-jong/2025-06-04/
LOCATION:Taumarunui Women’s Refuge & Support Centre\, 57 Miriama Street\, Taumarunui\, New Zealand
CATEGORIES:Clubs
END:VEVENT
BEGIN:VEVENT
DTSTART;TZID=Pacific/Auckland:20250604T160000
DTEND;TZID=Pacific/Auckland:20250604T170000
DTSTAMP:20260425T042049
CREATED:20250216T165727Z
LAST-MODIFIED:20250216T170030Z
UID:10011925-1749052800-1749056400@taumarunui.co.nz
SUMMARY:Join the Choir
DESCRIPTION:If your children love to sing\, bring them along.
URL:https://taumarunui.co.nz/event/join-the-choir/2025-06-04/
LOCATION:The Little Theatre
CATEGORIES:Children,Clubs
ATTACH;FMTTYPE=image/jpeg:https://taumarunui.co.nz/wp-content/uploads/2025/02/IMG_0494.jpeg
END:VEVENT
BEGIN:VEVENT
DTSTART;TZID=Pacific/Auckland:20250604T163000
DTEND;TZID=Pacific/Auckland:20250604T191500
DTSTAMP:20260425T042049
CREATED:20241015T064759Z
LAST-MODIFIED:20241015T073742Z
UID:10004445-1749054600-1749064500@taumarunui.co.nz
SUMMARY:Kyokushin Karate
DESCRIPTION:Traditional training every Monday & Wednesday. \nExtra fitness fight class on Friday \n7-12 year olds 4.30 – 5.30pm \nTeens & Adults 5.45pm – 7.15pm
URL:https://taumarunui.co.nz/event/kyokushin-karate-2/2025-06-04/
LOCATION:Kyokushin Karate\, 4 Marae Street\, Taumarunui\, New Zealand
CATEGORIES:Clubs,Sport
ATTACH;FMTTYPE=image/jpeg:https://taumarunui.co.nz/wp-content/uploads/2024/10/IMG_8094.jpg
END:VEVENT
BEGIN:VEVENT
DTSTART;TZID=Pacific/Auckland:20250604T173000
DTEND;TZID=Pacific/Auckland:20250604T183000
DTSTAMP:20260425T042049
CREATED:20241112T224554Z
LAST-MODIFIED:20241112T224554Z
UID:10009036-1749058200-1749061800@taumarunui.co.nz
SUMMARY:Free Dog training group class
DESCRIPTION:🐕Free Dog Training Group Class 🐕\n5:30pm Wednesdays\, Cherry Grove\nCome along to learn some new skills and have fun with your dog\nAll dogs must be on lead\, pm me with any questions – Emma King
URL:https://taumarunui.co.nz/event/free-dog-training-group-class/2025-06-04/
END:VEVENT
BEGIN:VEVENT
DTSTART;TZID=Pacific/Auckland:20250604T190000
DTEND;TZID=Pacific/Auckland:20250604T210000
DTSTAMP:20260425T042049
CREATED:20250212T034742Z
LAST-MODIFIED:20250216T170453Z
UID:10011665-1749063600-1749070800@taumarunui.co.nz
SUMMARY:Taumarunui Community Choir
DESCRIPTION:Taumarunui Community Choir\n7pm Wednesday’s.\nCome have fun singing with others @ The Little Theatre \nThis term we are preparing a selection of Show tunes. New members are welcome. You don’t need to have any experience or be able to read music. Come have fun singing with others.
URL:https://taumarunui.co.nz/event/taumarunui-community-choir/2025-06-04/
LOCATION:The Little Theatre
CATEGORIES:Clubs
ATTACH;FMTTYPE=image/jpeg:https://taumarunui.co.nz/wp-content/uploads/2025/02/IMG_0495.jpeg
END:VEVENT
END:VCALENDAR