BEGIN:VCALENDAR
VERSION:2.0
PRODID:-//Taumarunui - ECPv6.15.16//NONSGML v1.0//EN
CALSCALE:GREGORIAN
METHOD:PUBLISH
X-ORIGINAL-URL:https://taumarunui.co.nz
X-WR-CALDESC:Events for Taumarunui
REFRESH-INTERVAL;VALUE=DURATION:PT1H
X-Robots-Tag:noindex
X-PUBLISHED-TTL:PT1H
BEGIN:VTIMEZONE
TZID:Pacific/Auckland
BEGIN:STANDARD
TZOFFSETFROM:+1300
TZOFFSETTO:+1200
TZNAME:NZST
DTSTART:20240406T140000
END:STANDARD
BEGIN:DAYLIGHT
TZOFFSETFROM:+1200
TZOFFSETTO:+1300
TZNAME:NZDT
DTSTART:20240928T140000
END:DAYLIGHT
BEGIN:STANDARD
TZOFFSETFROM:+1300
TZOFFSETTO:+1200
TZNAME:NZST
DTSTART:20250405T140000
END:STANDARD
BEGIN:DAYLIGHT
TZOFFSETFROM:+1200
TZOFFSETTO:+1300
TZNAME:NZDT
DTSTART:20250927T140000
END:DAYLIGHT
BEGIN:STANDARD
TZOFFSETFROM:+1300
TZOFFSETTO:+1200
TZNAME:NZST
DTSTART:20260404T140000
END:STANDARD
BEGIN:DAYLIGHT
TZOFFSETFROM:+1200
TZOFFSETTO:+1300
TZNAME:NZDT
DTSTART:20260926T140000
END:DAYLIGHT
END:VTIMEZONE
BEGIN:VEVENT
DTSTART;TZID=Pacific/Auckland:20250510T080000
DTEND;TZID=Pacific/Auckland:20250510T130000
DTSTAMP:20260421T120300
CREATED:20241122T042447Z
LAST-MODIFIED:20241122T042448Z
UID:10009658-1746864000-1746882000@taumarunui.co.nz
SUMMARY:TRACT market
DESCRIPTION:Second Saturday of the month in the Town Centre Arcade\, Taumarunui except for December when it’s the first Saturday to match up with the Christmas parade
URL:https://taumarunui.co.nz/event/tract-market-2-2/2025-05-10/
LOCATION:Town Centre Arcade\, 101 Hakiaha Street\, Taumarunui\, New Zealand
CATEGORIES:Markets
ATTACH;FMTTYPE=image/jpeg:https://taumarunui.co.nz/wp-content/uploads/2024/10/IMG_0397.jpeg
END:VEVENT
BEGIN:VEVENT
DTSTART;TZID=Pacific/Auckland:20250510T100000
DTEND;TZID=Pacific/Auckland:20250510T110000
DTSTAMP:20260421T120300
CREATED:20241015T061524Z
LAST-MODIFIED:20241024T053057Z
UID:10003539-1746871200-1746874800@taumarunui.co.nz
SUMMARY:Ruapehu Toy Library
DESCRIPTION:We are open on Thursday and Saturday. Situated in the Taumarunui Arts Centre \nWe welcome any new members
URL:https://taumarunui.co.nz/event/ruapehu-toy-library-2/2025-05-10/
CATEGORIES:Children
ATTACH;FMTTYPE=image/jpeg:https://taumarunui.co.nz/wp-content/uploads/2024/10/IMG_8156-scaled.jpeg
END:VEVENT
BEGIN:VEVENT
DTSTART;TZID=Pacific/Auckland:20250510T100000
DTEND;TZID=Pacific/Auckland:20250510T150000
DTSTAMP:20260421T120300
CREATED:20241015T050012Z
LAST-MODIFIED:20241015T050012Z
UID:10003100-1746871200-1746889200@taumarunui.co.nz
SUMMARY:Foundational Wananga
DESCRIPTION:Traditional Maori Healing classes
URL:https://taumarunui.co.nz/event/foundational-wananga/2025-05-10/
LOCATION:Taumarunui\, Taumarunui\, New Zealand
CATEGORIES:Classes
ATTACH;FMTTYPE=image/jpeg:https://taumarunui.co.nz/wp-content/uploads/2024/09/IMG_8010.jpg
GEO:-38.8832802;175.2563657
END:VEVENT
BEGIN:VEVENT
DTSTART;TZID=Pacific/Auckland:20250510T113000
DTEND;TZID=Pacific/Auckland:20250510T170000
DTSTAMP:20260421T120300
CREATED:20250416T172324Z
LAST-MODIFIED:20250416T172324Z
UID:10012264-1746876600-1746896400@taumarunui.co.nz
SUMMARY:Mana Ariki Railway
DESCRIPTION:🚂 Back by popular demand – the Mana Ariki Railway is rolling again! 🌿✨\nJoin us for the second edition of this unforgettable bush railway adventure\, proudly brought to you by Mana Ariki Railway Inc and Te Kotahitanga Society Inc\, Taumarunui. \n🗓 Date: 10th of May\, 11:30 am – 5 pm at Mana Ariki Marae.\n🚞 Ride the 3km track through native bush\, tunnels\, and across two beautiful viaducts. It’s a unique experience that brings together history\, nature\, and community. \nWhether you’re a train buff or just keen for a memorable family day out\, you won’t want to miss this. \n🎟 Tickets:\nAdult – $5.00\nChild (5–15yrs) – $2.00 \n📍 Head to Mana Ariki Railway Inc for full details.\nLet’s celebrate the return of this special journey! \n#RuapehuNZ #OurGreaterOutdoors
URL:https://taumarunui.co.nz/event/mana-ariki-railway/
ATTACH;FMTTYPE=image/jpeg:https://taumarunui.co.nz/wp-content/uploads/2025/04/IMG_9996.jpeg
END:VEVENT
END:VCALENDAR