BEGIN:VCALENDAR
VERSION:2.0
PRODID:-//Taumarunui - ECPv6.15.16//NONSGML v1.0//EN
CALSCALE:GREGORIAN
METHOD:PUBLISH
X-WR-CALNAME:Taumarunui
X-ORIGINAL-URL:https://taumarunui.co.nz
X-WR-CALDESC:Events for Taumarunui
REFRESH-INTERVAL;VALUE=DURATION:PT1H
X-Robots-Tag:noindex
X-PUBLISHED-TTL:PT1H
BEGIN:VTIMEZONE
TZID:Pacific/Auckland
BEGIN:STANDARD
TZOFFSETFROM:+1300
TZOFFSETTO:+1200
TZNAME:NZST
DTSTART:20240406T140000
END:STANDARD
BEGIN:DAYLIGHT
TZOFFSETFROM:+1200
TZOFFSETTO:+1300
TZNAME:NZDT
DTSTART:20240928T140000
END:DAYLIGHT
BEGIN:STANDARD
TZOFFSETFROM:+1300
TZOFFSETTO:+1200
TZNAME:NZST
DTSTART:20250405T140000
END:STANDARD
BEGIN:DAYLIGHT
TZOFFSETFROM:+1200
TZOFFSETTO:+1300
TZNAME:NZDT
DTSTART:20250927T140000
END:DAYLIGHT
BEGIN:STANDARD
TZOFFSETFROM:+1300
TZOFFSETTO:+1200
TZNAME:NZST
DTSTART:20260404T140000
END:STANDARD
BEGIN:DAYLIGHT
TZOFFSETFROM:+1200
TZOFFSETTO:+1300
TZNAME:NZDT
DTSTART:20260926T140000
END:DAYLIGHT
END:VTIMEZONE
BEGIN:VEVENT
DTSTART;TZID=Pacific/Auckland:20250307T100000
DTEND;TZID=Pacific/Auckland:20250309T160000
DTSTAMP:20260422T232058
CREATED:20250227T040947Z
LAST-MODIFIED:20250227T040947Z
UID:10011961-1741341600-1741536000@taumarunui.co.nz
SUMMARY:Ruapehu Quiltmakers Exhibition
DESCRIPTION:War Memorial Hall\, Hakiaha Street\, Taumarunui \nFriday 7 March and Saturday 8 March 10am – 4pm \nSunday 9 March 10am – 3pm \nRaffles\, Merchants & sales table \nTea/coffee food for sale – NO EFTPOS \nENTRY – GOLD COIN
URL:https://taumarunui.co.nz/event/ruapehu-quiltmakers-exhibition/
LOCATION:Taumarunui Memorial Hall\, Hakiaha Street\, Taumarunui\, New Zealand
END:VEVENT
BEGIN:VEVENT
DTSTART;TZID=Pacific/Auckland:20250308T080000
DTEND;TZID=Pacific/Auckland:20250308T130000
DTSTAMP:20260422T232058
CREATED:20241122T042447Z
LAST-MODIFIED:20241122T042448Z
UID:10009656-1741420800-1741438800@taumarunui.co.nz
SUMMARY:TRACT market
DESCRIPTION:Second Saturday of the month in the Town Centre Arcade\, Taumarunui except for December when it’s the first Saturday to match up with the Christmas parade
URL:https://taumarunui.co.nz/event/tract-market-2-2/2025-03-08/
LOCATION:Town Centre Arcade\, 101 Hakiaha Street\, Taumarunui\, New Zealand
CATEGORIES:Markets
ATTACH;FMTTYPE=image/jpeg:https://taumarunui.co.nz/wp-content/uploads/2024/10/IMG_0397.jpeg
END:VEVENT
BEGIN:VEVENT
DTSTART;TZID=Pacific/Auckland:20250308T100000
DTEND;TZID=Pacific/Auckland:20250308T110000
DTSTAMP:20260422T232058
CREATED:20241015T061524Z
LAST-MODIFIED:20241024T053057Z
UID:10003530-1741428000-1741431600@taumarunui.co.nz
SUMMARY:Ruapehu Toy Library
DESCRIPTION:We are open on Thursday and Saturday. Situated in the Taumarunui Arts Centre \nWe welcome any new members
URL:https://taumarunui.co.nz/event/ruapehu-toy-library-2/2025-03-08/
CATEGORIES:Children
ATTACH;FMTTYPE=image/jpeg:https://taumarunui.co.nz/wp-content/uploads/2024/10/IMG_8156-scaled.jpeg
END:VEVENT
BEGIN:VEVENT
DTSTART;TZID=Pacific/Auckland:20250308T100000
DTEND;TZID=Pacific/Auckland:20250308T150000
DTSTAMP:20260422T232058
CREATED:20241015T050012Z
LAST-MODIFIED:20241015T050012Z
UID:10003091-1741428000-1741446000@taumarunui.co.nz
SUMMARY:Foundational Wananga
DESCRIPTION:Traditional Maori Healing classes
URL:https://taumarunui.co.nz/event/foundational-wananga/2025-03-08/
LOCATION:Taumarunui\, Taumarunui\, New Zealand
CATEGORIES:Classes
ATTACH;FMTTYPE=image/jpeg:https://taumarunui.co.nz/wp-content/uploads/2024/09/IMG_8010.jpg
GEO:-38.8832802;175.2563657
END:VEVENT
BEGIN:VEVENT
DTSTART;TZID=Pacific/Auckland:20250308T193000
DTEND;TZID=Pacific/Auckland:20250308T223000
DTSTAMP:20260422T232058
CREATED:20250211T212859Z
LAST-MODIFIED:20250215T222939Z
UID:10011647-1741462200-1741473000@taumarunui.co.nz
SUMMARY:Marilyn Kingi and Friends
DESCRIPTION:🎶 Live Music at the Club – Saturday\, March 8! 🎶 \nGet ready for a fantastic night out with Marilyn Kingi & Friends at the Taumarunui Cosmopolitan Club on Saturday\, March 8\, 2025! This event is open to everyone in the community\, so gather your friends and family and come along for a great evening of live music and good company. \nMembers\, we’d love your support—let’s make it a big one! The more\, the merrier 🎵
URL:https://taumarunui.co.nz/event/marilyn-kingi-and-friends-2/
LOCATION:Taumarunui Cosmopolitan Club Inc\, Miriama Street\, Taumarunui\, 3920\, New Zealand
CATEGORIES:Event
ATTACH;FMTTYPE=image/jpeg:https://taumarunui.co.nz/wp-content/uploads/2025/02/IMG_9408.jpeg
GEO:-38.8841083;175.2587415
X-APPLE-STRUCTURED-LOCATION;VALUE=URI;X-ADDRESS=Taumarunui Cosmopolitan Club Inc Miriama Street Taumarunui 3920 New Zealand;X-APPLE-RADIUS=500;X-TITLE=Miriama Street:geo:175.2587415,-38.8841083
END:VEVENT
END:VCALENDAR