BEGIN:VCALENDAR
VERSION:2.0
PRODID:-//Taumarunui - ECPv6.15.16//NONSGML v1.0//EN
CALSCALE:GREGORIAN
METHOD:PUBLISH
X-ORIGINAL-URL:https://taumarunui.co.nz
X-WR-CALDESC:Events for Taumarunui
REFRESH-INTERVAL;VALUE=DURATION:PT1H
X-Robots-Tag:noindex
X-PUBLISHED-TTL:PT1H
BEGIN:VTIMEZONE
TZID:Pacific/Auckland
BEGIN:STANDARD
TZOFFSETFROM:+1300
TZOFFSETTO:+1200
TZNAME:NZST
DTSTART:20240406T140000
END:STANDARD
BEGIN:DAYLIGHT
TZOFFSETFROM:+1200
TZOFFSETTO:+1300
TZNAME:NZDT
DTSTART:20240928T140000
END:DAYLIGHT
BEGIN:STANDARD
TZOFFSETFROM:+1300
TZOFFSETTO:+1200
TZNAME:NZST
DTSTART:20250405T140000
END:STANDARD
BEGIN:DAYLIGHT
TZOFFSETFROM:+1200
TZOFFSETTO:+1300
TZNAME:NZDT
DTSTART:20250927T140000
END:DAYLIGHT
BEGIN:STANDARD
TZOFFSETFROM:+1300
TZOFFSETTO:+1200
TZNAME:NZST
DTSTART:20260404T140000
END:STANDARD
BEGIN:DAYLIGHT
TZOFFSETFROM:+1200
TZOFFSETTO:+1300
TZNAME:NZDT
DTSTART:20260926T140000
END:DAYLIGHT
END:VTIMEZONE
BEGIN:VEVENT
DTSTART;TZID=Pacific/Auckland:20250307T093000
DTEND;TZID=Pacific/Auckland:20250307T123000
DTSTAMP:20260422T175137
CREATED:20241027T232922Z
LAST-MODIFIED:20241027T232922Z
UID:10005996-1741339800-1741350600@taumarunui.co.nz
SUMMARY:Manunui Playcentre
DESCRIPTION:Come along to Manunui Playcentre and check us out. For children aged 0-5.  $2 a session per family
URL:https://taumarunui.co.nz/event/manunui-playcentre-2/2025-03-07/
LOCATION:Manunui Playcentre\, 161 Miro Street\, Manunui\, Taumarunui\, New Zealand
CATEGORIES:Children,Clubs
ATTACH;FMTTYPE=image/png:https://taumarunui.co.nz/wp-content/uploads/2024/10/IMG_8098.png
GEO:-38.8875174;175.3227703
X-APPLE-STRUCTURED-LOCATION;VALUE=URI;X-ADDRESS=Manunui Playcentre 161 Miro Street Manunui Taumarunui New Zealand;X-APPLE-RADIUS=500;X-TITLE=161 Miro Street\, Manunui:geo:175.3227703,-38.8875174
END:VEVENT
BEGIN:VEVENT
DTSTART;TZID=Pacific/Auckland:20250307T100000
DTEND;TZID=Pacific/Auckland:20250309T160000
DTSTAMP:20260422T175137
CREATED:20250227T040947Z
LAST-MODIFIED:20250227T040947Z
UID:10011961-1741341600-1741536000@taumarunui.co.nz
SUMMARY:Ruapehu Quiltmakers Exhibition
DESCRIPTION:War Memorial Hall\, Hakiaha Street\, Taumarunui \nFriday 7 March and Saturday 8 March 10am – 4pm \nSunday 9 March 10am – 3pm \nRaffles\, Merchants & sales table \nTea/coffee food for sale – NO EFTPOS \nENTRY – GOLD COIN
URL:https://taumarunui.co.nz/event/ruapehu-quiltmakers-exhibition/
LOCATION:Taumarunui Memorial Hall\, Hakiaha Street\, Taumarunui\, New Zealand
END:VEVENT
BEGIN:VEVENT
DTSTART;TZID=Pacific/Auckland:20250307T103000
DTEND;TZID=Pacific/Auckland:20250307T143000
DTSTAMP:20260422T175137
CREATED:20241108T003031Z
LAST-MODIFIED:20241108T003031Z
UID:10008760-1741343400-1741357800@taumarunui.co.nz
SUMMARY:Taumarunui Mixed Make Time Play 9
DESCRIPTION:
URL:https://taumarunui.co.nz/event/taumarunui-mixed-make-time-play-9/2025-03-07/
LOCATION:Taumarunui Golf Club\, 165 Golf Road\, Taumarunui\, New Zealand
CATEGORIES:Clubs,Sport
ATTACH;FMTTYPE=image/jpeg:https://taumarunui.co.nz/wp-content/uploads/2024/11/IMG_8283.jpeg
END:VEVENT
BEGIN:VEVENT
DTSTART;TZID=Pacific/Auckland:20250307T130000
DTEND;TZID=Pacific/Auckland:20250307T150000
DTSTAMP:20260422T175137
CREATED:20241105T044854Z
LAST-MODIFIED:20241105T050015Z
UID:10008250-1741352400-1741359600@taumarunui.co.nz
SUMMARY:Taumarunui & District Women’s Club Circles - Bridge
DESCRIPTION:Visitors & new members welcome
URL:https://taumarunui.co.nz/event/taumarunui-district-womens-club-circles-bridge/2025-03-07/
LOCATION:Taumarunui Women’s Refuge & Support Centre\, 57 Miriama Street\, Taumarunui\, New Zealand
CATEGORIES:Clubs
END:VEVENT
BEGIN:VEVENT
DTSTART;TZID=Pacific/Auckland:20250307T160000
DTEND;TZID=Pacific/Auckland:20250307T180000
DTSTAMP:20260422T175137
CREATED:20241112T230456Z
LAST-MODIFIED:20241112T230456Z
UID:10009284-1741363200-1741370400@taumarunui.co.nz
SUMMARY:Pickleball
DESCRIPTION:Exciting!!!!\nLook at what is starting in Taumarunui – “PICKLEBALL”.\nWe welcome Pete and Terry to Taumarunui\, and they bring their love for the game of Pickleball.\nThe Taumarunui Youth and Community Trust has supported them in getting this up and running in the community.\nAnyone interested can come to the athletic gym on Fridays from 4pm to 6pm.
URL:https://taumarunui.co.nz/event/pickleball/2025-03-07/
LOCATION:Athletics Club\, Turaki Street\, Taumarunui\, New Zealand
CATEGORIES:Clubs,Sport
ATTACH;FMTTYPE=image/jpeg:https://taumarunui.co.nz/wp-content/uploads/2024/11/IMG_8308.jpeg
END:VEVENT
BEGIN:VEVENT
DTSTART;TZID=Pacific/Auckland:20250307T193000
DTEND;TZID=Pacific/Auckland:20250307T210000
DTSTAMP:20260422T175137
CREATED:20250122T004637Z
LAST-MODIFIED:20250122T004637Z
UID:10010717-1741375800-1741381200@taumarunui.co.nz
SUMMARY:Comedy Hypnosis Show
DESCRIPTION:Taumarunui\, get ready to LOL!\nJoin our hilarious Comedy Hypnosis Show where YOU become the star! \n• 1.5 hours of non-stop laughter\n• All ages welcome!\n• Free parking at the venue \nWhen: March 7th\, 7:30 PM – 9:00 PM (doors open 7:00 PM)\nWhere: Taumarunui & District Memorial Hall \nEarly Bird Sale from NZ$27.58 (reg. NZ$32.97)! Don’t miss out\, grab your tix now before they’re gone!
URL:https://taumarunui.co.nz/event/comedy-hypnosis-show/
LOCATION:Taumarunui Memorial Hall\, Hakiaha Street\, Taumarunui\, New Zealand
CATEGORIES:Event
END:VEVENT
BEGIN:VEVENT
DTSTART;TZID=Pacific/Auckland:20250307T193000
DTEND;TZID=Pacific/Auckland:20250307T220000
DTSTAMP:20260422T175137
CREATED:20250224T051940Z
LAST-MODIFIED:20250224T215527Z
UID:10011956-1741375800-1741384800@taumarunui.co.nz
SUMMARY:Jon Sanders & Dave Alley in concert
DESCRIPTION:Jon Sanders is back! He and Dave Alley will be treating us to some great music and good fun at the Arts Centre\, Friday 7 March at 7.30pm. Door Sales $25. \nYouTube link: https://youtu.be/v0PtvJVQB0Q?si=MYoEjELoRYN1h4yE
URL:https://taumarunui.co.nz/event/jon-sanders-dave-alley-in-concert/
LOCATION:Taumarunui Arts Centre\, Hakiaha Street\, Taumarunui\, New Zealand
CATEGORIES:Event
ATTACH;FMTTYPE=image/jpeg:https://taumarunui.co.nz/wp-content/uploads/2025/02/IMG_9587.jpeg
END:VEVENT
END:VCALENDAR