BEGIN:VCALENDAR
VERSION:2.0
PRODID:-//Taumarunui - ECPv6.15.16//NONSGML v1.0//EN
CALSCALE:GREGORIAN
METHOD:PUBLISH
X-ORIGINAL-URL:https://taumarunui.co.nz
X-WR-CALDESC:Events for Taumarunui
REFRESH-INTERVAL;VALUE=DURATION:PT1H
X-Robots-Tag:noindex
X-PUBLISHED-TTL:PT1H
BEGIN:VTIMEZONE
TZID:Pacific/Auckland
BEGIN:STANDARD
TZOFFSETFROM:+1300
TZOFFSETTO:+1200
TZNAME:NZST
DTSTART:20240406T140000
END:STANDARD
BEGIN:DAYLIGHT
TZOFFSETFROM:+1200
TZOFFSETTO:+1300
TZNAME:NZDT
DTSTART:20240928T140000
END:DAYLIGHT
BEGIN:STANDARD
TZOFFSETFROM:+1300
TZOFFSETTO:+1200
TZNAME:NZST
DTSTART:20250405T140000
END:STANDARD
BEGIN:DAYLIGHT
TZOFFSETFROM:+1200
TZOFFSETTO:+1300
TZNAME:NZDT
DTSTART:20250927T140000
END:DAYLIGHT
BEGIN:STANDARD
TZOFFSETFROM:+1300
TZOFFSETTO:+1200
TZNAME:NZST
DTSTART:20260404T140000
END:STANDARD
BEGIN:DAYLIGHT
TZOFFSETFROM:+1200
TZOFFSETTO:+1300
TZNAME:NZDT
DTSTART:20260926T140000
END:DAYLIGHT
END:VTIMEZONE
BEGIN:VEVENT
DTSTART;VALUE=DATE:20250301
DTEND;VALUE=DATE:20250303
DTSTAMP:20260422T213804
CREATED:20241130T045341Z
LAST-MODIFIED:20241130T045341Z
UID:10009715-1740787200-1740959999@taumarunui.co.nz
SUMMARY:The Adventure Highway Art Trail
DESCRIPTION:The Adventure Highway Art Trail \nOpen Studios\nFebruary 22 – March 2nd 2025 \nThe Adventure Highway Art Trail features Artists and their Open Studios\, Local Art Galleries\, Gardens\, local food and culture and adventures to boot. \nOn the weekends of February 22 and 23rd and March 1st and 2nd 2025\, the Art Trail will hold an ‘Artists Open Studio Event’ highlighting the Artworks of Waitomo\, South Waikato and Ruapehu Artists all along the adventure highway. This event offers a wide variety of Art and Craft to view and purchase\, a selection of some of New Zealand’s best gardens hidden along this trail and the option of enjoying the hospitality of participating Marae where’ll you’ll be able to see a selection of precious Taonga and gain an insight into local culture. The Adventure Highway Art Trail makes a perfect 2 or 3 day getaway where you can also enjoy a taste of a variety of the adventures the regions offer as well if time allows. For more information on things to do go to www.visitruapehu.com To read more about the Adventure Highway Art Trail and view samples of Artists work together with listings for local accommodation\, Cafes\, Restaurants and Gardens on the trail\, visit www.adventurehighwayarttrail.shop Here you’ll also be able to view and download the Art Trail map online as well For more information Call Mark on 021 109 8290 Email adventurehighwayarttrail@gmail.com
URL:https://taumarunui.co.nz/event/the-adventure-highway-art-trail-2/
CATEGORIES:Event
ATTACH;FMTTYPE=image/jpeg:https://taumarunui.co.nz/wp-content/uploads/2024/11/IMG_8505.jpeg
END:VEVENT
BEGIN:VEVENT
DTSTART;TZID=Pacific/Auckland:20250301T100000
DTEND;TZID=Pacific/Auckland:20250301T110000
DTSTAMP:20260422T213804
CREATED:20241015T061524Z
LAST-MODIFIED:20241024T053057Z
UID:10003529-1740823200-1740826800@taumarunui.co.nz
SUMMARY:Ruapehu Toy Library
DESCRIPTION:We are open on Thursday and Saturday. Situated in the Taumarunui Arts Centre \nWe welcome any new members
URL:https://taumarunui.co.nz/event/ruapehu-toy-library-2/2025-03-01/
CATEGORIES:Children
ATTACH;FMTTYPE=image/jpeg:https://taumarunui.co.nz/wp-content/uploads/2024/10/IMG_8156-scaled.jpeg
END:VEVENT
BEGIN:VEVENT
DTSTART;TZID=Pacific/Auckland:20250301T100000
DTEND;TZID=Pacific/Auckland:20250301T150000
DTSTAMP:20260422T213804
CREATED:20241015T050012Z
LAST-MODIFIED:20241015T050012Z
UID:10003090-1740823200-1740841200@taumarunui.co.nz
SUMMARY:Foundational Wananga
DESCRIPTION:Traditional Maori Healing classes
URL:https://taumarunui.co.nz/event/foundational-wananga/2025-03-01/
LOCATION:Taumarunui\, Taumarunui\, New Zealand
CATEGORIES:Classes
ATTACH;FMTTYPE=image/jpeg:https://taumarunui.co.nz/wp-content/uploads/2024/09/IMG_8010.jpg
GEO:-38.8832802;175.2563657
END:VEVENT
BEGIN:VEVENT
DTSTART;TZID=Pacific/Auckland:20250301T190000
DTEND;TZID=Pacific/Auckland:20250302T010000
DTSTAMP:20260422T213804
CREATED:20250125T190516Z
LAST-MODIFIED:20250125T190516Z
UID:10011039-1740855600-1740877200@taumarunui.co.nz
SUMMARY:Costume Party
DESCRIPTION:Now for a bit of fun…\nCostume Party\nPurchase your ticket here:\nhttps://www.adventurehighwayarttrail.shop/2025-adventure-highway-art-trail-dinner-and-dance \nEarly bird price\n$40 per person (Regular price $50)\nIncludes:\nDJ\nOpen Bar at discount prices\nFinger food\nStory telling\n7pm – 1am \nBe quick tickets are limited \nOn the weekends of the 22nd February and 1st March\, we’ll be holding the Adventure Highway Art Trail Open Art Studios weekends. Artists will showcase their work from their home studios\, and you can visit and buy directly. At the tail end of the Art Trail on the 1st of March\, we’ll be holding a costume party with DJ as a fundraiser for Twin Rivers Community Art Gallery. This will help us cover our outgoings\, which have increased a lot. So join us for some fun. Purchase your ticket using the link above. Venue: Downstairs beneath the Cosmopolitan Club
URL:https://taumarunui.co.nz/event/costume-party/
LOCATION:Taumarunui Cosmopolitan Club Inc\, Miriama Street\, Taumarunui\, 3920\, New Zealand
CATEGORIES:Event
ATTACH;FMTTYPE=image/jpeg:https://taumarunui.co.nz/wp-content/uploads/2025/01/IMG_0478.jpeg
GEO:-38.8841083;175.2587415
X-APPLE-STRUCTURED-LOCATION;VALUE=URI;X-ADDRESS=Taumarunui Cosmopolitan Club Inc Miriama Street Taumarunui 3920 New Zealand;X-APPLE-RADIUS=500;X-TITLE=Miriama Street:geo:175.2587415,-38.8841083
END:VEVENT
END:VCALENDAR