BEGIN:VCALENDAR
VERSION:2.0
PRODID:-//Taumarunui - ECPv6.15.16//NONSGML v1.0//EN
CALSCALE:GREGORIAN
METHOD:PUBLISH
X-WR-CALNAME:Taumarunui
X-ORIGINAL-URL:https://taumarunui.co.nz
X-WR-CALDESC:Events for Taumarunui
REFRESH-INTERVAL;VALUE=DURATION:PT1H
X-Robots-Tag:noindex
X-PUBLISHED-TTL:PT1H
BEGIN:VTIMEZONE
TZID:Pacific/Auckland
BEGIN:STANDARD
TZOFFSETFROM:+1300
TZOFFSETTO:+1200
TZNAME:NZST
DTSTART:20230401T140000
END:STANDARD
BEGIN:DAYLIGHT
TZOFFSETFROM:+1200
TZOFFSETTO:+1300
TZNAME:NZDT
DTSTART:20230923T140000
END:DAYLIGHT
BEGIN:STANDARD
TZOFFSETFROM:+1300
TZOFFSETTO:+1200
TZNAME:NZST
DTSTART:20240406T140000
END:STANDARD
BEGIN:DAYLIGHT
TZOFFSETFROM:+1200
TZOFFSETTO:+1300
TZNAME:NZDT
DTSTART:20240928T140000
END:DAYLIGHT
BEGIN:STANDARD
TZOFFSETFROM:+1300
TZOFFSETTO:+1200
TZNAME:NZST
DTSTART:20250405T140000
END:STANDARD
BEGIN:DAYLIGHT
TZOFFSETFROM:+1200
TZOFFSETTO:+1300
TZNAME:NZDT
DTSTART:20250927T140000
END:DAYLIGHT
BEGIN:STANDARD
TZOFFSETFROM:+1300
TZOFFSETTO:+1200
TZNAME:NZST
DTSTART:20260404T140000
END:STANDARD
BEGIN:DAYLIGHT
TZOFFSETFROM:+1200
TZOFFSETTO:+1300
TZNAME:NZDT
DTSTART:20260926T140000
END:DAYLIGHT
END:VTIMEZONE
BEGIN:VEVENT
DTSTART;VALUE=DATE:20241101
DTEND;VALUE=DATE:20250301
DTSTAMP:20260421T203416
CREATED:20241024T075521Z
LAST-MODIFIED:20241024T075521Z
UID:10005970-1730419200-1740787199@taumarunui.co.nz
SUMMARY:Summer Golf
DESCRIPTION:Play Golf all summer long from 1st November 2024 to 28th February 2025 \nMembership only $235 \n 
URL:https://taumarunui.co.nz/event/summer-golf/
LOCATION:Taumarunui Golf Club\, 165 Golf Road\, Taumarunui\, New Zealand
CATEGORIES:Clubs,Sport
ATTACH;FMTTYPE=image/jpeg:https://taumarunui.co.nz/wp-content/uploads/2024/10/IMG_0383-1.jpg
END:VEVENT
BEGIN:VEVENT
DTSTART;TZID=Pacific/Auckland:20250201T090000
DTEND;TZID=Pacific/Auckland:20250201T150000
DTSTAMP:20260421T203416
CREATED:20250121T212143Z
LAST-MODIFIED:20250121T212143Z
UID:10010715-1738400400-1738422000@taumarunui.co.nz
SUMMARY:Taumarunui A & P Show
DESCRIPTION:All welcome – come along and check our 2025 A & P Show.
URL:https://taumarunui.co.nz/event/taumarunui-a-p-show/
LOCATION:Golf Road Showgrounds
ATTACH;FMTTYPE=image/jpeg:https://taumarunui.co.nz/wp-content/uploads/2025/01/IMG_9157.jpeg
END:VEVENT
BEGIN:VEVENT
DTSTART;TZID=Pacific/Auckland:20250201T100000
DTEND;TZID=Pacific/Auckland:20250201T110000
DTSTAMP:20260421T203416
CREATED:20241015T061524Z
LAST-MODIFIED:20241024T053057Z
UID:10003525-1738404000-1738407600@taumarunui.co.nz
SUMMARY:Ruapehu Toy Library
DESCRIPTION:We are open on Thursday and Saturday. Situated in the Taumarunui Arts Centre \nWe welcome any new members
URL:https://taumarunui.co.nz/event/ruapehu-toy-library-2/2025-02-01/
CATEGORIES:Children
ATTACH;FMTTYPE=image/jpeg:https://taumarunui.co.nz/wp-content/uploads/2024/10/IMG_8156-scaled.jpeg
END:VEVENT
BEGIN:VEVENT
DTSTART;TZID=Pacific/Auckland:20250201T100000
DTEND;TZID=Pacific/Auckland:20250201T150000
DTSTAMP:20260421T203416
CREATED:20241015T050012Z
LAST-MODIFIED:20241015T050012Z
UID:10003086-1738404000-1738422000@taumarunui.co.nz
SUMMARY:Foundational Wananga
DESCRIPTION:Traditional Maori Healing classes
URL:https://taumarunui.co.nz/event/foundational-wananga/2025-02-01/
LOCATION:Taumarunui\, Taumarunui\, New Zealand
CATEGORIES:Classes
ATTACH;FMTTYPE=image/jpeg:https://taumarunui.co.nz/wp-content/uploads/2024/09/IMG_8010.jpg
GEO:-38.8832802;175.2563657
END:VEVENT
BEGIN:VEVENT
DTSTART;TZID=Pacific/Auckland:20250201T100000
DTEND;TZID=Pacific/Auckland:20250201T160000
DTSTAMP:20260421T203416
CREATED:20250129T230134Z
LAST-MODIFIED:20250129T230134Z
UID:10011055-1738404000-1738425600@taumarunui.co.nz
SUMMARY:Iddy Biddy Sunflower Field
DESCRIPTION:Tunnel Hill\, River Road\, Aorangi on the Forgotten World Highway \n20 mins from Taumarunui \n🌻 10am – 4pm\n🌻 $10 Entry Fee\, Under 12’s free with adults\n🌻$5 a stem to take home these will be sold the week after as we are still awaiting for a full field of flowers.\n(Bring cash as eftpos is hit as miss on the field)\n🌻 Coffee Cart open for drinks and treats\n🌻 Closed shoes as it is still farm land and its uneven under foot in places and we are exceptionally good at growing thistles !\n🌻 GOOD VIBES ONLY 🌻 \nSEE YOU ALL SOON 💛
URL:https://taumarunui.co.nz/event/iddy-biddy-sunflower-field-2/2025-02-01/
CATEGORIES:Event
ATTACH;FMTTYPE=image/jpeg:https://taumarunui.co.nz/wp-content/uploads/2025/01/IMG_0460.jpeg
END:VEVENT
END:VCALENDAR