BEGIN:VCALENDAR
VERSION:2.0
PRODID:-//Taumarunui - ECPv6.15.16//NONSGML v1.0//EN
CALSCALE:GREGORIAN
METHOD:PUBLISH
X-WR-CALNAME:Taumarunui
X-ORIGINAL-URL:https://taumarunui.co.nz
X-WR-CALDESC:Events for Taumarunui
REFRESH-INTERVAL;VALUE=DURATION:PT1H
X-Robots-Tag:noindex
X-PUBLISHED-TTL:PT1H
BEGIN:VTIMEZONE
TZID:Pacific/Auckland
BEGIN:STANDARD
TZOFFSETFROM:+1300
TZOFFSETTO:+1200
TZNAME:NZST
DTSTART:20230401T140000
END:STANDARD
BEGIN:DAYLIGHT
TZOFFSETFROM:+1200
TZOFFSETTO:+1300
TZNAME:NZDT
DTSTART:20230923T140000
END:DAYLIGHT
BEGIN:STANDARD
TZOFFSETFROM:+1300
TZOFFSETTO:+1200
TZNAME:NZST
DTSTART:20240406T140000
END:STANDARD
BEGIN:DAYLIGHT
TZOFFSETFROM:+1200
TZOFFSETTO:+1300
TZNAME:NZDT
DTSTART:20240928T140000
END:DAYLIGHT
BEGIN:STANDARD
TZOFFSETFROM:+1300
TZOFFSETTO:+1200
TZNAME:NZST
DTSTART:20250405T140000
END:STANDARD
BEGIN:DAYLIGHT
TZOFFSETFROM:+1200
TZOFFSETTO:+1300
TZNAME:NZDT
DTSTART:20250927T140000
END:DAYLIGHT
BEGIN:STANDARD
TZOFFSETFROM:+1300
TZOFFSETTO:+1200
TZNAME:NZST
DTSTART:20260404T140000
END:STANDARD
BEGIN:DAYLIGHT
TZOFFSETFROM:+1200
TZOFFSETTO:+1300
TZNAME:NZDT
DTSTART:20260926T140000
END:DAYLIGHT
END:VTIMEZONE
BEGIN:VEVENT
DTSTART;VALUE=DATE:20241101
DTEND;VALUE=DATE:20250301
DTSTAMP:20260422T195842
CREATED:20241024T075521Z
LAST-MODIFIED:20241024T075521Z
UID:10005970-1730419200-1740787199@taumarunui.co.nz
SUMMARY:Summer Golf
DESCRIPTION:Play Golf all summer long from 1st November 2024 to 28th February 2025 \nMembership only $235 \n 
URL:https://taumarunui.co.nz/event/summer-golf/
LOCATION:Taumarunui Golf Club\, 165 Golf Road\, Taumarunui\, New Zealand
CATEGORIES:Clubs,Sport
ATTACH;FMTTYPE=image/jpeg:https://taumarunui.co.nz/wp-content/uploads/2024/10/IMG_0383-1.jpg
END:VEVENT
BEGIN:VEVENT
DTSTART;VALUE=DATE:20241202
DTEND;VALUE=DATE:20241209
DTSTAMP:20260422T195842
CREATED:20241105T202639Z
LAST-MODIFIED:20241105T202639Z
UID:10008615-1733097600-1733702399@taumarunui.co.nz
SUMMARY:Taumarunui Community Christmas Tree Festival
DESCRIPTION:Come and see what our community has to offer through a spectacular display of unique Christmas trees.\non from 2-8 December. See viewing schedule on flyer. Contact Mary Ward at REAP for further information
URL:https://taumarunui.co.nz/event/taumarunui-community-christmas-tree-festival/
LOCATION:Taumarunui Memorial Hall\, Hakiaha Street\, Taumarunui\, New Zealand
CATEGORIES:Event
ATTACH;FMTTYPE=image/jpeg:https://taumarunui.co.nz/wp-content/uploads/2024/10/IMG_8264.jpeg
END:VEVENT
BEGIN:VEVENT
DTSTART;TZID=Pacific/Auckland:20241207T080000
DTEND;TZID=Pacific/Auckland:20241207T130000
DTSTAMP:20260422T195842
CREATED:20241122T042054Z
LAST-MODIFIED:20241122T042326Z
UID:10003772-1733558400-1733576400@taumarunui.co.nz
SUMMARY:TRACT market
DESCRIPTION:Second Saturday of the month in the Town Centre Arcade\, Taumarunui except for December when it’s the first Saturday to match up with the Christmas parade
URL:https://taumarunui.co.nz/event/tract-market-2/
LOCATION:Town Centre Arcade\, 101 Hakiaha Street\, Taumarunui\, New Zealand
CATEGORIES:Markets
ATTACH;FMTTYPE=image/jpeg:https://taumarunui.co.nz/wp-content/uploads/2024/10/IMG_0397.jpeg
END:VEVENT
BEGIN:VEVENT
DTSTART;TZID=Pacific/Auckland:20241207T100000
DTEND;TZID=Pacific/Auckland:20241207T110000
DTSTAMP:20260422T195842
CREATED:20241015T061524Z
LAST-MODIFIED:20241024T053057Z
UID:10003517-1733565600-1733569200@taumarunui.co.nz
SUMMARY:Ruapehu Toy Library
DESCRIPTION:We are open on Thursday and Saturday. Situated in the Taumarunui Arts Centre \nWe welcome any new members
URL:https://taumarunui.co.nz/event/ruapehu-toy-library-2/2024-12-07/
CATEGORIES:Children
ATTACH;FMTTYPE=image/jpeg:https://taumarunui.co.nz/wp-content/uploads/2024/10/IMG_8156-scaled.jpeg
END:VEVENT
BEGIN:VEVENT
DTSTART;TZID=Pacific/Auckland:20241207T100000
DTEND;TZID=Pacific/Auckland:20241207T140000
DTSTAMP:20260422T195842
CREATED:20241122T004258Z
LAST-MODIFIED:20241122T004258Z
UID:10009596-1733565600-1733580000@taumarunui.co.nz
SUMMARY:Free Santa photos
DESCRIPTION:🎉🎉🎉 Santa is paying REAP a little visit on Saturday 7th of December 🎉🎉🎉 Bring your Whanau for a FREE photo 🎉🎉🎉🎉🎉
URL:https://taumarunui.co.nz/event/free-santa-photos/
LOCATION:Central King Country REAP\, Hakiaha Street\, Taumarunui\, New Zealand
CATEGORIES:Children,Event
ATTACH;FMTTYPE=image/jpeg:https://taumarunui.co.nz/wp-content/uploads/2024/11/IMG_8404.jpeg
END:VEVENT
BEGIN:VEVENT
DTSTART;TZID=Pacific/Auckland:20241207T100000
DTEND;TZID=Pacific/Auckland:20241207T150000
DTSTAMP:20260422T195842
CREATED:20241015T050012Z
LAST-MODIFIED:20241015T050012Z
UID:10003078-1733565600-1733583600@taumarunui.co.nz
SUMMARY:Foundational Wananga
DESCRIPTION:Traditional Maori Healing classes
URL:https://taumarunui.co.nz/event/foundational-wananga/2024-12-07/
LOCATION:Taumarunui\, Taumarunui\, New Zealand
CATEGORIES:Classes
ATTACH;FMTTYPE=image/jpeg:https://taumarunui.co.nz/wp-content/uploads/2024/09/IMG_8010.jpg
GEO:-38.8832802;175.2563657
END:VEVENT
BEGIN:VEVENT
DTSTART;TZID=Pacific/Auckland:20241207T120000
DTEND;TZID=Pacific/Auckland:20241207T133000
DTSTAMP:20260422T195842
CREATED:20241017T070904Z
LAST-MODIFIED:20241017T071243Z
UID:10005957-1733572800-1733578200@taumarunui.co.nz
SUMMARY:Christmas Parade 2024
DESCRIPTION:Come along and join in the fun with all your family and friends. Fantastic day in town watching the parade and supporting all the local businesses.\nMake sure you register your float by requesting a form by emailing info@taumarunui.co.nz
URL:https://taumarunui.co.nz/event/christmas-parade-2024/
LOCATION:Taumarunui\, Taumarunui\, New Zealand
CATEGORIES:Event
ATTACH;FMTTYPE=image/jpeg:https://taumarunui.co.nz/wp-content/uploads/2024/10/c2a148da-896c-44fd-bdeb-0dd83355324a.jpeg
GEO:-38.8832802;175.2563657
END:VEVENT
BEGIN:VEVENT
DTSTART;TZID=Pacific/Auckland:20241207T133000
DTEND;TZID=Pacific/Auckland:20241207T160000
DTSTAMP:20260422T195842
CREATED:20241111T004039Z
LAST-MODIFIED:20241111T004039Z
UID:10009005-1733578200-1733587200@taumarunui.co.nz
SUMMARY:Suicide Awareness Event
DESCRIPTION:🌟 Suicide Awareness Event – Join Us After the Taumarunui Christmas Parade! 🌟 \nOn December 7th\, head over to the Taumarunui Domain from 1:30 to 4:00 PM for a powerful\, free community event presented by the Taumarunui Kokiri Trust. We’re coming together to raise awareness around suicide prevention and support each other as a community. \nThis year\, we’re excited to have Rats Nation Riders Against Teen Suicide with us! Expect an impressive lineup of motorbikes rolling in to show their support 🏍️🖤. \nHere’s what’s in store: 🔥 Sausage Sizzle\n🎉 Spot Prizes & Giveaways\n🗣️ Guest Speakers\n🚑 Waka Hauora Health Checks\n🍹 Wellness Shots\n💪 Tug-o-War: Bikers vs. Community\n…and so much more! \nLet’s unite\, support one another\, and help curb suicide within our community. Bring your friends\, family\, and whānau – everyone’s welcome! \n🔗 More info: kokiritrust.nz\n#GoTeamKokiriTrust #RatsNation #GreenRibbon #RidersAgainstTeenSuicide #Taumarunui #ChristmasParade #CurbingSuicide
URL:https://taumarunui.co.nz/event/suicide-awareness-event/
ATTACH;FMTTYPE=image/jpeg:https://taumarunui.co.nz/wp-content/uploads/2024/11/IMG_8298.jpeg
END:VEVENT
END:VCALENDAR