BEGIN:VCALENDAR
VERSION:2.0
PRODID:-//Taumarunui - ECPv6.15.16//NONSGML v1.0//EN
CALSCALE:GREGORIAN
METHOD:PUBLISH
X-ORIGINAL-URL:https://taumarunui.co.nz
X-WR-CALDESC:Events for Taumarunui
REFRESH-INTERVAL;VALUE=DURATION:PT1H
X-Robots-Tag:noindex
X-PUBLISHED-TTL:PT1H
BEGIN:VTIMEZONE
TZID:Pacific/Auckland
BEGIN:STANDARD
TZOFFSETFROM:+1300
TZOFFSETTO:+1200
TZNAME:NZST
DTSTART:20230401T140000
END:STANDARD
BEGIN:DAYLIGHT
TZOFFSETFROM:+1200
TZOFFSETTO:+1300
TZNAME:NZDT
DTSTART:20230923T140000
END:DAYLIGHT
BEGIN:STANDARD
TZOFFSETFROM:+1300
TZOFFSETTO:+1200
TZNAME:NZST
DTSTART:20240406T140000
END:STANDARD
BEGIN:DAYLIGHT
TZOFFSETFROM:+1200
TZOFFSETTO:+1300
TZNAME:NZDT
DTSTART:20240928T140000
END:DAYLIGHT
BEGIN:STANDARD
TZOFFSETFROM:+1300
TZOFFSETTO:+1200
TZNAME:NZST
DTSTART:20250405T140000
END:STANDARD
BEGIN:DAYLIGHT
TZOFFSETFROM:+1200
TZOFFSETTO:+1300
TZNAME:NZDT
DTSTART:20250927T140000
END:DAYLIGHT
BEGIN:STANDARD
TZOFFSETFROM:+1300
TZOFFSETTO:+1200
TZNAME:NZST
DTSTART:20260404T140000
END:STANDARD
BEGIN:DAYLIGHT
TZOFFSETFROM:+1200
TZOFFSETTO:+1300
TZNAME:NZDT
DTSTART:20260926T140000
END:DAYLIGHT
END:VTIMEZONE
BEGIN:VEVENT
DTSTART;VALUE=DATE:20241101
DTEND;VALUE=DATE:20250301
DTSTAMP:20260422T213804
CREATED:20241024T075521Z
LAST-MODIFIED:20241024T075521Z
UID:10005970-1730419200-1740787199@taumarunui.co.nz
SUMMARY:Summer Golf
DESCRIPTION:Play Golf all summer long from 1st November 2024 to 28th February 2025 \nMembership only $235 \n 
URL:https://taumarunui.co.nz/event/summer-golf/
LOCATION:Taumarunui Golf Club\, 165 Golf Road\, Taumarunui\, New Zealand
CATEGORIES:Clubs,Sport
ATTACH;FMTTYPE=image/jpeg:https://taumarunui.co.nz/wp-content/uploads/2024/10/IMG_0383-1.jpg
END:VEVENT
BEGIN:VEVENT
DTSTART;VALUE=DATE:20241121
DTEND;VALUE=DATE:20241124
DTSTAMP:20260422T213804
CREATED:20241024T075757Z
LAST-MODIFIED:20241024T075757Z
UID:10005971-1732147200-1732406399@taumarunui.co.nz
SUMMARY:Manunui Clubs Inc Children's Hunting Competition
DESCRIPTION:
URL:https://taumarunui.co.nz/event/manunui-clubs-inc-childrens-hunting-competition/
LOCATION:Manunui Club
CATEGORIES:Clubs,Event
ATTACH;FMTTYPE=image/jpeg:https://taumarunui.co.nz/wp-content/uploads/2024/10/IMG_8159.jpg
END:VEVENT
BEGIN:VEVENT
DTSTART;VALUE=DATE:20241123
DTEND;VALUE=DATE:20241124
DTSTAMP:20260422T213804
CREATED:20241015T045025Z
LAST-MODIFIED:20241015T045025Z
UID:10003010-1732320000-1732406399@taumarunui.co.nz
SUMMARY:Ruapehu Spring Garden Ramble
DESCRIPTION:Another great event to view the beautiful gardens in our district
URL:https://taumarunui.co.nz/event/ruapehu-spring-garden-ramble/
CATEGORIES:Event
ATTACH;FMTTYPE=image/jpeg:https://taumarunui.co.nz/wp-content/uploads/2024/09/IMG_7847.jpg
END:VEVENT
BEGIN:VEVENT
DTSTART;TZID=Pacific/Auckland:20241123T080000
DTEND;TZID=Pacific/Auckland:20241123T170000
DTSTAMP:20260422T213804
CREATED:20241118T002543Z
LAST-MODIFIED:20241118T002543Z
UID:10009533-1732348800-1732381200@taumarunui.co.nz
SUMMARY:The Wizard of Oz
DESCRIPTION:Get your tickets \nThis FRIDAY 22nd and SATURDAY-23rd November
URL:https://taumarunui.co.nz/event/the-wizard-of-oz/2024-11-23/
LOCATION:Taumarunui High School
CATEGORIES:Event
ATTACH;FMTTYPE=image/jpeg:https://taumarunui.co.nz/wp-content/uploads/2024/11/IMG_8362.jpeg
END:VEVENT
BEGIN:VEVENT
DTSTART;TZID=Pacific/Auckland:20241123T100000
DTEND;TZID=Pacific/Auckland:20241123T110000
DTSTAMP:20260422T213804
CREATED:20241015T061524Z
LAST-MODIFIED:20241024T053057Z
UID:10003515-1732356000-1732359600@taumarunui.co.nz
SUMMARY:Ruapehu Toy Library
DESCRIPTION:We are open on Thursday and Saturday. Situated in the Taumarunui Arts Centre \nWe welcome any new members
URL:https://taumarunui.co.nz/event/ruapehu-toy-library-2/2024-11-23/
CATEGORIES:Children
ATTACH;FMTTYPE=image/jpeg:https://taumarunui.co.nz/wp-content/uploads/2024/10/IMG_8156-scaled.jpeg
END:VEVENT
BEGIN:VEVENT
DTSTART;TZID=Pacific/Auckland:20241123T100000
DTEND;TZID=Pacific/Auckland:20241123T150000
DTSTAMP:20260422T213804
CREATED:20241015T050012Z
LAST-MODIFIED:20241015T050012Z
UID:10003076-1732356000-1732374000@taumarunui.co.nz
SUMMARY:Foundational Wananga
DESCRIPTION:Traditional Maori Healing classes
URL:https://taumarunui.co.nz/event/foundational-wananga/2024-11-23/
LOCATION:Taumarunui\, Taumarunui\, New Zealand
CATEGORIES:Classes
ATTACH;FMTTYPE=image/jpeg:https://taumarunui.co.nz/wp-content/uploads/2024/09/IMG_8010.jpg
GEO:-38.8832802;175.2563657
END:VEVENT
BEGIN:VEVENT
DTSTART;TZID=Pacific/Auckland:20241123T130000
DTEND;TZID=Pacific/Auckland:20241123T130000
DTSTAMP:20260422T213804
CREATED:20241015T062915Z
LAST-MODIFIED:20241015T063023Z
UID:10004092-1732366800-1732366800@taumarunui.co.nz
SUMMARY:Taumarunui Genealogy Interest Group
DESCRIPTION:Meetings held monthly on fourth Saturday of the month
URL:https://taumarunui.co.nz/event/taumarunui-genealogy-interest-group/2024-11-23/
LOCATION:Senior Citizens Hall\, Morero Street\, Taumarunui\, New Zealand
CATEGORIES:Clubs
END:VEVENT
BEGIN:VEVENT
DTSTART;TZID=Pacific/Auckland:20241123T133000
DTEND;TZID=Pacific/Auckland:20241123T153000
DTSTAMP:20260422T213804
CREATED:20241117T231603Z
LAST-MODIFIED:20241117T231603Z
UID:10009531-1732368600-1732375800@taumarunui.co.nz
SUMMARY:Train stopping in Taumarunui
DESCRIPTION:🎈🎈🎈A TRAIN FROM PALMERSTON NORTH WITH 340 PEOPLE ON IT WILL BE ARRIVING IN TAUMARUNUI AT APPROX 1.45pm THIS SATURDAY 23 NOVEMBER AND STAY FOR 90 MINUTES🎈🎈🎈🎈 \n🥳🥳🥳🥳LETS GIVE THEM A ROUSING TAUMARUNUI WELCOME FROM THE STATION PLATFORM.🥳🥳🥳🥳 BE THERE WITH YOUR FRIENDS AND FAMILY. \nLOTS OF SHOPS AND FOOD PLACES ARE STAYING OPEN LATER TO SUPPORT THIS EVENT.
URL:https://taumarunui.co.nz/event/train-stopping-in-taumarunui/
CATEGORIES:Event
ATTACH;FMTTYPE=image/jpeg:https://taumarunui.co.nz/wp-content/uploads/2024/11/IMG_0441.jpeg
END:VEVENT
END:VCALENDAR