BEGIN:VCALENDAR
VERSION:2.0
PRODID:-//Taumarunui - ECPv6.15.16//NONSGML v1.0//EN
CALSCALE:GREGORIAN
METHOD:PUBLISH
X-WR-CALNAME:Taumarunui
X-ORIGINAL-URL:https://taumarunui.co.nz
X-WR-CALDESC:Events for Taumarunui
REFRESH-INTERVAL;VALUE=DURATION:PT1H
X-Robots-Tag:noindex
X-PUBLISHED-TTL:PT1H
BEGIN:VTIMEZONE
TZID:Pacific/Auckland
BEGIN:STANDARD
TZOFFSETFROM:+1300
TZOFFSETTO:+1200
TZNAME:NZST
DTSTART:20230401T140000
END:STANDARD
BEGIN:DAYLIGHT
TZOFFSETFROM:+1200
TZOFFSETTO:+1300
TZNAME:NZDT
DTSTART:20230923T140000
END:DAYLIGHT
BEGIN:STANDARD
TZOFFSETFROM:+1300
TZOFFSETTO:+1200
TZNAME:NZST
DTSTART:20240406T140000
END:STANDARD
BEGIN:DAYLIGHT
TZOFFSETFROM:+1200
TZOFFSETTO:+1300
TZNAME:NZDT
DTSTART:20240928T140000
END:DAYLIGHT
BEGIN:STANDARD
TZOFFSETFROM:+1300
TZOFFSETTO:+1200
TZNAME:NZST
DTSTART:20250405T140000
END:STANDARD
BEGIN:DAYLIGHT
TZOFFSETFROM:+1200
TZOFFSETTO:+1300
TZNAME:NZDT
DTSTART:20250927T140000
END:DAYLIGHT
END:VTIMEZONE
BEGIN:VEVENT
DTSTART;VALUE=DATE:20241026
DTEND;VALUE=DATE:20241028
DTSTAMP:20260423T062411
CREATED:20241024T053927Z
LAST-MODIFIED:20241024T053927Z
UID:10005962-1729900800-1730073599@taumarunui.co.nz
SUMMARY:Taumarunui Golf Club - Main Trunk Pairs Scramble
DESCRIPTION:Sponsored by Craigs Investment Partners
URL:https://taumarunui.co.nz/event/taumarunui-golf-club-main-trunk-pairs-scramble/
CATEGORIES:Sport
ATTACH;FMTTYPE=image/png:https://taumarunui.co.nz/wp-content/uploads/2024/10/IMG_0377.png
END:VEVENT
BEGIN:VEVENT
DTSTART;VALUE=DATE:20241027
DTEND;VALUE=DATE:20241028
DTSTAMP:20260423T062411
CREATED:20241015T053219Z
LAST-MODIFIED:20241016T054524Z
UID:10003238-1729987200-1730073599@taumarunui.co.nz
SUMMARY:Natural Terrain Motocross Fun Day
DESCRIPTION:Ruapehu Dirt Riders \nEnhancing your Mental wellbeing whilst raising funds to help others
URL:https://taumarunui.co.nz/event/natural-terrain-motocross-fun-day/
CATEGORIES:Sport
ATTACH;FMTTYPE=image/jpeg:https://taumarunui.co.nz/wp-content/uploads/2024/09/IMG_8052.jpg
END:VEVENT
END:VCALENDAR