BEGIN:VCALENDAR
VERSION:2.0
PRODID:-//Taumarunui - ECPv6.15.16//NONSGML v1.0//EN
CALSCALE:GREGORIAN
METHOD:PUBLISH
X-WR-CALNAME:Taumarunui
X-ORIGINAL-URL:https://taumarunui.co.nz
X-WR-CALDESC:Events for Taumarunui
REFRESH-INTERVAL;VALUE=DURATION:PT1H
X-Robots-Tag:noindex
X-PUBLISHED-TTL:PT1H
BEGIN:VTIMEZONE
TZID:Pacific/Auckland
BEGIN:STANDARD
TZOFFSETFROM:+1300
TZOFFSETTO:+1200
TZNAME:NZST
DTSTART:20230401T140000
END:STANDARD
BEGIN:DAYLIGHT
TZOFFSETFROM:+1200
TZOFFSETTO:+1300
TZNAME:NZDT
DTSTART:20230923T140000
END:DAYLIGHT
BEGIN:STANDARD
TZOFFSETFROM:+1300
TZOFFSETTO:+1200
TZNAME:NZST
DTSTART:20240406T140000
END:STANDARD
BEGIN:DAYLIGHT
TZOFFSETFROM:+1200
TZOFFSETTO:+1300
TZNAME:NZDT
DTSTART:20240928T140000
END:DAYLIGHT
BEGIN:STANDARD
TZOFFSETFROM:+1300
TZOFFSETTO:+1200
TZNAME:NZST
DTSTART:20250405T140000
END:STANDARD
BEGIN:DAYLIGHT
TZOFFSETFROM:+1200
TZOFFSETTO:+1300
TZNAME:NZDT
DTSTART:20250927T140000
END:DAYLIGHT
END:VTIMEZONE
BEGIN:VEVENT
DTSTART;TZID=Pacific/Auckland:20241010T120000
DTEND;TZID=Pacific/Auckland:20241010T130000
DTSTAMP:20260422T195857
CREATED:20240922T231421Z
LAST-MODIFIED:20240922T231421Z
UID:10001248-1728561600-1728565200@taumarunui.co.nz
SUMMARY:Alcoholics Anonymous
DESCRIPTION:Step meeting every Thursday lunchtime
URL:https://taumarunui.co.nz/event/alcoholics-anonymous-2/2024-10-10/
LOCATION:250 Taupo Road\, Taupo Road\, Taumarunui\, 3920\, New Zealand
CATEGORIES:Clubs
GEO:-38.8844708;175.290787
X-APPLE-STRUCTURED-LOCATION;VALUE=URI;X-ADDRESS=250 Taupo Road Taupo Road Taumarunui 3920 New Zealand;X-APPLE-RADIUS=500;X-TITLE=Taupo Road:geo:175.290787,-38.8844708
END:VEVENT
BEGIN:VEVENT
DTSTART;TZID=Pacific/Auckland:20241010T153000
DTEND;TZID=Pacific/Auckland:20241010T170000
DTSTAMP:20260422T195857
CREATED:20240922T233142Z
LAST-MODIFIED:20241027T233413Z
UID:10001633-1728574200-1728579600@taumarunui.co.nz
SUMMARY:King Country Scout Group
DESCRIPTION:Meeting every Thursday at Scout Hall\, O’Reilly Crescent\, Matapuna \nOutdoor and water activities\, games\, crafts\, camps\, hikes and fun! \nKeas aged 5-8 years\, Cubs 8-11 years\, Scouts 11-14 years \nLeader volunteers welcome \nContact: kingcountry@group.scouts.nz
URL:https://taumarunui.co.nz/event/king-country-scout-group/2024-10-10/
LOCATION:Scout Hall\, Taupo Road\, Taumarunui\, 3920\, New Zealand
CATEGORIES:Children,Clubs
GEO:-38.883687;175.298651
X-APPLE-STRUCTURED-LOCATION;VALUE=URI;X-ADDRESS=Scout Hall Taupo Road Taumarunui 3920 New Zealand;X-APPLE-RADIUS=500;X-TITLE=Taupo Road:geo:175.298651,-38.883687
END:VEVENT
END:VCALENDAR